BEGIN:VCALENDAR
VERSION:2.0
PRODID:-//Eventos Latinos - ECPv6.15.20//NONSGML v1.0//EN
CALSCALE:GREGORIAN
METHOD:PUBLISH
X-WR-CALNAME:Eventos Latinos
X-ORIGINAL-URL:https://www.eventoslatinos.org
X-WR-CALDESC:Events for Eventos Latinos
REFRESH-INTERVAL;VALUE=DURATION:PT1H
X-Robots-Tag:noindex
X-PUBLISHED-TTL:PT1H
BEGIN:VTIMEZONE
TZID:America/Chicago
BEGIN:DAYLIGHT
TZOFFSETFROM:-0600
TZOFFSETTO:-0500
TZNAME:CDT
DTSTART:20240310T080000
END:DAYLIGHT
BEGIN:STANDARD
TZOFFSETFROM:-0500
TZOFFSETTO:-0600
TZNAME:CST
DTSTART:20241103T070000
END:STANDARD
BEGIN:DAYLIGHT
TZOFFSETFROM:-0600
TZOFFSETTO:-0500
TZNAME:CDT
DTSTART:20250309T080000
END:DAYLIGHT
BEGIN:STANDARD
TZOFFSETFROM:-0500
TZOFFSETTO:-0600
TZNAME:CST
DTSTART:20251102T070000
END:STANDARD
BEGIN:DAYLIGHT
TZOFFSETFROM:-0600
TZOFFSETTO:-0500
TZNAME:CDT
DTSTART:20260308T080000
END:DAYLIGHT
BEGIN:STANDARD
TZOFFSETFROM:-0500
TZOFFSETTO:-0600
TZNAME:CST
DTSTART:20261101T070000
END:STANDARD
END:VTIMEZONE
BEGIN:VEVENT
DTSTART;TZID=America/Chicago:20250913T110000
DTEND;TZID=America/Chicago:20250913T180000
DTSTAMP:20260424T192240
CREATED:20250905T200706Z
LAST-MODIFIED:20250905T201738Z
UID:10000273-1757761200-1757786400@www.eventoslatinos.org
SUMMARY:2025 Latin Festival
DESCRIPTION:🎉 Join us for an unforgettable celebration at our Annual Latin Festival 2025! 💃🕺 \n🎟️ Free Entry ? Everyone is welcome to enjoy the festivities with no admission fee! \n🎶 Live Performances ? Experience vibrant music and dance that celebrate the rich cultural heritage of Latin America. \n🌮 Delicious Food ? Indulge in a variety of traditional Latin American dishes from our amazing food vendors. \n👨‍👩‍👧‍👦 Fun for the Whole Family ? Bring your loved ones for a day filled with joy\, culture\, and community. \nWe can?t wait to see you there! 🎊🎈
URL:https://www.eventoslatinos.org/event/2025-latin-festival/
LOCATION:Pearland Town Center\, 11200 Broadway Street\, Pearland\, TX\, 77584\, United States
ATTACH;FMTTYPE=image/jpeg:https://www.eventoslatinos.org/wp-content/uploads/2025/09/Flyer1.jpg
ORGANIZER;CN="Brazoria County Hispanic Chamber of Commerce":MAILTO:gaguirre@bchispanicchamber.com
END:VEVENT
END:VCALENDAR