BEGIN:VCALENDAR
VERSION:2.0
PRODID:-//Eventos Latinos - ECPv6.15.20//NONSGML v1.0//EN
CALSCALE:GREGORIAN
METHOD:PUBLISH
X-ORIGINAL-URL:https://www.eventoslatinos.org
X-WR-CALDESC:Events for Eventos Latinos
REFRESH-INTERVAL;VALUE=DURATION:PT1H
X-Robots-Tag:noindex
X-PUBLISHED-TTL:PT1H
BEGIN:VTIMEZONE
TZID:America/Chicago
BEGIN:DAYLIGHT
TZOFFSETFROM:-0600
TZOFFSETTO:-0500
TZNAME:CDT
DTSTART:20240310T080000
END:DAYLIGHT
BEGIN:STANDARD
TZOFFSETFROM:-0500
TZOFFSETTO:-0600
TZNAME:CST
DTSTART:20241103T070000
END:STANDARD
BEGIN:DAYLIGHT
TZOFFSETFROM:-0600
TZOFFSETTO:-0500
TZNAME:CDT
DTSTART:20250309T080000
END:DAYLIGHT
BEGIN:STANDARD
TZOFFSETFROM:-0500
TZOFFSETTO:-0600
TZNAME:CST
DTSTART:20251102T070000
END:STANDARD
BEGIN:DAYLIGHT
TZOFFSETFROM:-0600
TZOFFSETTO:-0500
TZNAME:CDT
DTSTART:20260308T080000
END:DAYLIGHT
BEGIN:STANDARD
TZOFFSETFROM:-0500
TZOFFSETTO:-0600
TZNAME:CST
DTSTART:20261101T070000
END:STANDARD
END:VTIMEZONE
BEGIN:VEVENT
DTSTART;TZID=America/Chicago:20250927T193000
DTEND;TZID=America/Chicago:20250927T213000
DTSTAMP:20260424T223705
CREATED:20250903T230317Z
LAST-MODIFIED:20250904T152604Z
UID:10000272-1759001400-1759008600@www.eventoslatinos.org
SUMMARY:Dia de la Hispanidad
DESCRIPTION:The Institute of Hispanic Culture of Houston (IHCH) is excited to announce Latin America in the Americas\, a vibrant celebration of Latin American culture timed with the “Día de la Hispanidad.” \nThis captivating event\, produced by DANMAR Academy of Performing Arts\, showcases a rich tapestry of traditions through dance\, music\, and audiovisual presentations\, aligning with IHCH’s dedication to preserving and disseminating Hispanic culture in Houston. \nThe event features artistic direction by award-winning choreographer Maria Fernanda Urbaez and musical direction by Grammy Award winner Eddy Marcano. It includes performances from both internationally recognized and local award-nominated artists\, carefully selected to highlight emerging talents aged 13 and older.
URL:https://www.eventoslatinos.org/event/dia-de-la-hispanidad/
LOCATION:Miller Outdoor Theatre\, 6000 Hermann Park Drive\, Houston\, TX\, 77030\, United States
ATTACH;FMTTYPE=image/jpeg:https://www.eventoslatinos.org/wp-content/uploads/2025/09/WEB-2048X1024-miller.jpg
ORGANIZER;CN="Institute of Hispanic Culture of Houston":MAILTO:institute@ihch.org
END:VEVENT
END:VCALENDAR