BEGIN:VCALENDAR
VERSION:2.0
PRODID:-//Eventos Latinos - ECPv6.15.20//NONSGML v1.0//EN
CALSCALE:GREGORIAN
METHOD:PUBLISH
X-WR-CALNAME:Eventos Latinos
X-ORIGINAL-URL:https://www.eventoslatinos.org
X-WR-CALDESC:Events for Eventos Latinos
REFRESH-INTERVAL;VALUE=DURATION:PT1H
X-Robots-Tag:noindex
X-PUBLISHED-TTL:PT1H
BEGIN:VTIMEZONE
TZID:America/Chicago
BEGIN:DAYLIGHT
TZOFFSETFROM:-0600
TZOFFSETTO:-0500
TZNAME:CDT
DTSTART:20240310T080000
END:DAYLIGHT
BEGIN:STANDARD
TZOFFSETFROM:-0500
TZOFFSETTO:-0600
TZNAME:CST
DTSTART:20241103T070000
END:STANDARD
BEGIN:DAYLIGHT
TZOFFSETFROM:-0600
TZOFFSETTO:-0500
TZNAME:CDT
DTSTART:20250309T080000
END:DAYLIGHT
BEGIN:STANDARD
TZOFFSETFROM:-0500
TZOFFSETTO:-0600
TZNAME:CST
DTSTART:20251102T070000
END:STANDARD
BEGIN:DAYLIGHT
TZOFFSETFROM:-0600
TZOFFSETTO:-0500
TZNAME:CDT
DTSTART:20260308T080000
END:DAYLIGHT
BEGIN:STANDARD
TZOFFSETFROM:-0500
TZOFFSETTO:-0600
TZNAME:CST
DTSTART:20261101T070000
END:STANDARD
END:VTIMEZONE
BEGIN:VEVENT
DTSTART;TZID=America/Chicago:20251011T090000
DTEND;TZID=America/Chicago:20251011T110000
DTSTAMP:20260424T133845
CREATED:20251009T003131Z
LAST-MODIFIED:20251009T010103Z
UID:10000299-1760173200-1760180400@www.eventoslatinos.org
SUMMARY:Chorizo & Menudo Breakfast
DESCRIPTION:Join LULAC Council 102 for the Fort Worth Chorizo & Menudo Breakfast\, a long-standing community gathering that blends good food\, civic conversation\, and Latino leadership. This month’s breakfast features a powerful lineup of speakers shaping education\, public service\, and community advocacy in North Texas. \nGuest Speakers Include: \nLuis Rodríguez Bucio – Consul General of Mexico in Dallas \nDr. Karen Calvert Molinar – Superintendent\, Fort Worth ISD \nDr. Mark Ramirez – Superintendent\, Lake Worth ISD \nTaylor Rehmet – Candidate\, Texas Senate District 9 \nJohn H. Martinez-D. – President & CEO\, Regional Hispanic Contractors Association \nThis free breakfast forum welcomes elected officials\, educators\, community leaders\, and residents to discuss issues impacting Hispanic families and small businesses across the Dallas–Fort Worth metroplex. Guests are encouraged to stay for the entire program and participate respectfully in the discussion. \nThe Chorizo & Menudo series\, founded by LULAC 102\, has been a monthly tradition for over a decade—held the first Saturday of each month in Dallas and now the second Saturday in Fort Worth—to foster civic engagement and leadership within the Latino community.
URL:https://www.eventoslatinos.org/event/chorizo-menudo-breakfast/
LOCATION:Cabrito Nuevo León\, 1544 Ellis Avenue\, Fort Worth\, TX\, 76164\, United States
ATTACH;FMTTYPE=image/jpeg:https://www.eventoslatinos.org/wp-content/uploads/2025/10/ChatGPT-Image-Oct-8-2025-06_33_26-PM.jpg
ORGANIZER;CN="LULAC Council 102":MAILTO:jsauceda@dgley.com
END:VEVENT
END:VCALENDAR