BEGIN:VCALENDAR
VERSION:2.0
PRODID:-//Eventos Latinos - ECPv6.15.20//NONSGML v1.0//EN
CALSCALE:GREGORIAN
METHOD:PUBLISH
X-WR-CALNAME:Eventos Latinos
X-ORIGINAL-URL:https://www.eventoslatinos.org
X-WR-CALDESC:Events for Eventos Latinos
REFRESH-INTERVAL;VALUE=DURATION:PT1H
X-Robots-Tag:noindex
X-PUBLISHED-TTL:PT1H
BEGIN:VTIMEZONE
TZID:America/Chicago
BEGIN:DAYLIGHT
TZOFFSETFROM:-0600
TZOFFSETTO:-0500
TZNAME:CDT
DTSTART:20240310T080000
END:DAYLIGHT
BEGIN:STANDARD
TZOFFSETFROM:-0500
TZOFFSETTO:-0600
TZNAME:CST
DTSTART:20241103T070000
END:STANDARD
BEGIN:DAYLIGHT
TZOFFSETFROM:-0600
TZOFFSETTO:-0500
TZNAME:CDT
DTSTART:20250309T080000
END:DAYLIGHT
BEGIN:STANDARD
TZOFFSETFROM:-0500
TZOFFSETTO:-0600
TZNAME:CST
DTSTART:20251102T070000
END:STANDARD
BEGIN:DAYLIGHT
TZOFFSETFROM:-0600
TZOFFSETTO:-0500
TZNAME:CDT
DTSTART:20260308T080000
END:DAYLIGHT
BEGIN:STANDARD
TZOFFSETFROM:-0500
TZOFFSETTO:-0600
TZNAME:CST
DTSTART:20261101T070000
END:STANDARD
END:VTIMEZONE
BEGIN:VEVENT
DTSTART;TZID=America/Chicago:20251015T180000
DTEND;TZID=America/Chicago:20251015T200000
DTSTAMP:20260424T134114
CREATED:20251013T184252Z
LAST-MODIFIED:20251013T185807Z
UID:10000303-1760551200-1760558400@www.eventoslatinos.org
SUMMARY:Latino Texas PAC's Dieziañera Celebration
DESCRIPTION:Join us for a monumental evening of celebration and empowerment as Latino Texas PAC marks its 10th anniversary with the Dieziañera Celebration. This milestone event—Nuestra Dieziañera 2025—honors a decade of community-building\, advocacy\, and progress in elevating Latino leadership across Texas. \nExpect an inspiring program featuring: \n\n\nKeynote addresses & remarks from community leaders \n\n\nRecognition of changemakers & honorees \n\n\nCultural performances \n\n\nNetworking opportunities \n\n\nDinner and dancing \n\n\nWhether you’re a supporter\, leader\, or ally in the Latino political and civic space\, this is more than a celebration—it is a recommitment to our mission: increasing Latino representation in elected office and ensuring accountability to our communities. \nWho Should Attend: \n\n\nCommunity activists & organizers \n\n\nElected officials & public servants \n\n\nLatino leaders and advocates \n\n\nSupporters of civic engagement & equity
URL:https://www.eventoslatinos.org/event/latino-texas-pacs-diezianera-celebration/
LOCATION:319 Milby Street\, 319 Milby St\, Houston\, TX\, 77003\, United States
ATTACH;FMTTYPE=image/jpeg:https://www.eventoslatinos.org/wp-content/uploads/2025/10/https___cdn.evbuc_.com_images_1146366463_178294054704_1_original.jpeg
ORGANIZER;CN="Latino Texas PAC":MAILTO:latinotxpac@gmail.com
END:VEVENT
END:VCALENDAR