BEGIN:VCALENDAR
VERSION:2.0
PRODID:-//Eventos Latinos - ECPv6.15.20//NONSGML v1.0//EN
CALSCALE:GREGORIAN
METHOD:PUBLISH
X-WR-CALNAME:Eventos Latinos
X-ORIGINAL-URL:https://www.eventoslatinos.org
X-WR-CALDESC:Events for Eventos Latinos
REFRESH-INTERVAL;VALUE=DURATION:PT1H
X-Robots-Tag:noindex
X-PUBLISHED-TTL:PT1H
BEGIN:VTIMEZONE
TZID:America/Chicago
BEGIN:DAYLIGHT
TZOFFSETFROM:-0600
TZOFFSETTO:-0500
TZNAME:CDT
DTSTART:20240310T080000
END:DAYLIGHT
BEGIN:STANDARD
TZOFFSETFROM:-0500
TZOFFSETTO:-0600
TZNAME:CST
DTSTART:20241103T070000
END:STANDARD
BEGIN:DAYLIGHT
TZOFFSETFROM:-0600
TZOFFSETTO:-0500
TZNAME:CDT
DTSTART:20250309T080000
END:DAYLIGHT
BEGIN:STANDARD
TZOFFSETFROM:-0500
TZOFFSETTO:-0600
TZNAME:CST
DTSTART:20251102T070000
END:STANDARD
BEGIN:DAYLIGHT
TZOFFSETFROM:-0600
TZOFFSETTO:-0500
TZNAME:CDT
DTSTART:20260308T080000
END:DAYLIGHT
BEGIN:STANDARD
TZOFFSETFROM:-0500
TZOFFSETTO:-0600
TZNAME:CST
DTSTART:20261101T070000
END:STANDARD
END:VTIMEZONE
BEGIN:VEVENT
DTSTART;TZID=America/Chicago:20251017T120000
DTEND;TZID=America/Chicago:20251017T130000
DTSTAMP:20260424T163538
CREATED:20251013T050139Z
LAST-MODIFIED:20250926T171053Z
UID:10000287-1760702400-1760706000@www.eventoslatinos.org
SUMMARY:Surprise GastroTour – Celebrate Hispanic Heritage Month
DESCRIPTION:To celebrate Hispanic Heritage Month this year\, The Carlson Law Firm’s interstate GastroTour will celebrate in San Marcos with local Hispanic business San Marcos Gorditas on Oct. 17 from 12 to 1 p.m. in The Carlson Law Firm’s parking lot. \nThe surprise food truck route highlights different Hispanic food trucks in Texas during Hispanic Heritage Month. Each week\, The Carlson Law Firm hires a different local food truck to serve free food\, supporting the local business and economy while highlighting the Hispanic business. In addition\, the firm will be giving away commemorative gifts from The Carlson Law Firm to anyone who passes by during the designated time.
URL:https://www.eventoslatinos.org/event/surprise-gastrotour-celebrate-hispanic-heritage-month-3/
LOCATION:The Carlson Law Firm in San Marcos\, 1310 Wonder World Dr Suite 104\, San Marcos\, TX\, 78666\, United States
ATTACH;FMTTYPE=image/jpeg:https://www.eventoslatinos.org/wp-content/uploads/2025/09/2025-BLOG-IMG-HHM-ENG-1.jpg
ORGANIZER;CN="The Carlson Law Firm":MAILTO:wecare@carlsonattorneys.com
END:VEVENT
BEGIN:VEVENT
DTSTART;TZID=America/Chicago:20251010T120000
DTEND;TZID=America/Chicago:20251010T130000
DTSTAMP:20260424T163538
CREATED:20251006T141312Z
LAST-MODIFIED:20250926T170544Z
UID:10000286-1760097600-1760101200@www.eventoslatinos.org
SUMMARY:Surprise GastroTour – Celebrate Hispanic Heritage Month
DESCRIPTION:To celebrate Hispanic Heritage Month this year\, The Carlson Law Firm’s interstate GastroTour will celebrate in Round Rock with local Hispanic business Taco Con Botas on Oct. 10 from 12 to 1 p.m. in The Carlson Law Firm’s parking lot. \nThe surprise food truck route highlights different Hispanic food trucks in Texas during Hispanic Heritage Month. Each week\, The Carlson Law Firm hires a different local food truck to serve free food\, supporting the local business and economy while highlighting the Hispanic business. In addition\, the firm will be giving away commemorative gifts from The Carlson Law Firm to anyone who passes by during the designated time. \nStay tuned to find out the locations for week 3!
URL:https://www.eventoslatinos.org/event/surprise-gastrotour-celebrate-hispanic-heritage-month-2/
LOCATION:The Carlson Law Firm in Round Rock\, 559 S I-35 Frontage Rd Suite 250\, Round Rock\, TX\, 78664\, United States
ATTACH;FMTTYPE=image/jpeg:https://www.eventoslatinos.org/wp-content/uploads/2025/09/2025-BLOG-IMG-HHM-ENG-1.jpg
ORGANIZER;CN="The Carlson Law Firm":MAILTO:wecare@carlsonattorneys.com
END:VEVENT
BEGIN:VEVENT
DTSTART;TZID=America/Chicago:20251003T120000
DTEND;TZID=America/Chicago:20251003T130000
DTSTAMP:20260424T163538
CREATED:20250924T193151Z
LAST-MODIFIED:20250924T211639Z
UID:10000285-1759492800-1759496400@www.eventoslatinos.org
SUMMARY:Surprise GastroTour – Celebrate Hispanic Heritage Month
DESCRIPTION:To celebrate Hispanic Heritage Month this year\, The Carlson Law Firm’s interstate GastroTour will kick off the celebration in Waco with local Hispanic business Chefito’s Kitchen on Oct. 3 from 12 to 1 p.m. in The Carlson Law Firm’s parking lot. \nThe surprise food truck route highlights different Hispanic food trucks in Texas during Hispanic Heritage Month. Each week\, The Carlson Law Firm hires a different local food truck to serve free food\, supporting the local business and economy while highlighting the Hispanic business. In addition\, the firm will be giving away commemorative gifts from The Carlson Law Firm to anyone who passes by during the designated time. \n\nStay tuned to find out the locations for weeks 2 and 3!
URL:https://www.eventoslatinos.org/event/surprise-gastrotour-celebrate-hispanic-heritage-month/
LOCATION:The Carlson Law Firm – Waco Office\, 2420 I-35\, Waco\, TX\, 76706\, United States
ATTACH;FMTTYPE=image/jpeg:https://www.eventoslatinos.org/wp-content/uploads/2025/09/2025-BLOG-IMG-HHM-ENG-1.jpg
ORGANIZER;CN="The Carlson Law Firm":MAILTO:wecare@carlsonattorneys.com
END:VEVENT
BEGIN:VEVENT
DTSTART;TZID=America/Chicago:20251003T120000
DTEND;TZID=America/Chicago:20251003T130000
DTSTAMP:20260424T163538
CREATED:20250924T190818Z
LAST-MODIFIED:20250925T003649Z
UID:10000284-1759492800-1759496400@www.eventoslatinos.org
SUMMARY:Ruta Gastronómica Sorpresa – Celebra el Mes de la Herencia Hispana
DESCRIPTION:Para celebrar el Mes de la Herencia Hispana\, este año\, la ruta gastronómica interestatal de The Carlson Law Firm comenzará celebrando en Waco con el negocio hispano local\, Chefito’s Kitchen el 3 de octubre de 12-1 p.m. en los predios de The Carlson Law Firm. \nLa ruta gastronómica sorpresa destaca distintos ‘food trucks’ hispanos en Texas durante el Mes de la Herencia Hispana. Cada semana\, The Carlson Law Firm contrata a un camión de comida local distinto para servir comida gratis\, apoyando al negocio y la economía local mientras destaca la empresa hispana. Además\, el bufete regalará obsequios conmemorativos de Carlson Law Firm a cualquiera que pase durante el tiempo designado. \n ¡Estén atentos para conocer las ubicaciones de las semanas 2 y 3!
URL:https://www.eventoslatinos.org/event/ruta-gastronomica-sorpresa/
LOCATION:The Carlson Law Firm – Waco Office\, 2420 I-35\, Waco\, TX\, 76706\, United States
ATTACH;FMTTYPE=image/jpeg:https://www.eventoslatinos.org/wp-content/uploads/2025/09/2025-BLOG-IMG-HHM-SP.jpg
ORGANIZER;CN="The Carlson Law Firm":MAILTO:wecare@carlsonattorneys.com
END:VEVENT
END:VCALENDAR