BEGIN:VCALENDAR
VERSION:2.0
PRODID:-//Eventos Latinos - ECPv6.15.20//NONSGML v1.0//EN
CALSCALE:GREGORIAN
METHOD:PUBLISH
X-WR-CALNAME:Eventos Latinos
X-ORIGINAL-URL:https://www.eventoslatinos.org
X-WR-CALDESC:Events for Eventos Latinos
REFRESH-INTERVAL;VALUE=DURATION:PT1H
X-Robots-Tag:noindex
X-PUBLISHED-TTL:PT1H
BEGIN:VTIMEZONE
TZID:America/Chicago
BEGIN:DAYLIGHT
TZOFFSETFROM:-0600
TZOFFSETTO:-0500
TZNAME:CDT
DTSTART:20240310T080000
END:DAYLIGHT
BEGIN:STANDARD
TZOFFSETFROM:-0500
TZOFFSETTO:-0600
TZNAME:CST
DTSTART:20241103T070000
END:STANDARD
BEGIN:DAYLIGHT
TZOFFSETFROM:-0600
TZOFFSETTO:-0500
TZNAME:CDT
DTSTART:20250309T080000
END:DAYLIGHT
BEGIN:STANDARD
TZOFFSETFROM:-0500
TZOFFSETTO:-0600
TZNAME:CST
DTSTART:20251102T070000
END:STANDARD
BEGIN:DAYLIGHT
TZOFFSETFROM:-0600
TZOFFSETTO:-0500
TZNAME:CDT
DTSTART:20260308T080000
END:DAYLIGHT
BEGIN:STANDARD
TZOFFSETFROM:-0500
TZOFFSETTO:-0600
TZNAME:CST
DTSTART:20261101T070000
END:STANDARD
END:VTIMEZONE
BEGIN:VEVENT
DTSTART;TZID=America/Chicago:20251020T190000
DTEND;TZID=America/Chicago:20251020T220000
DTSTAMP:20260424T192854
CREATED:20251013T202957Z
LAST-MODIFIED:20251013T202957Z
UID:10000307-1760986800-1760997600@www.eventoslatinos.org
SUMMARY:Texas Horror Cult Film Festival
DESCRIPTION:Enter a night of cinematic chills\, twisted cult classics\, and underground horror delights at the Texas Horror & Cult Film Festival. This multi-genre celebration showcases the eerie\, the bizarre\, and the unforgettable—bringing together fans\, filmmakers\, and cinephiles from across the Lone Star State. \nExpect a lineup packed with: \nWorld & regional premieres of horror\, cult\, and experimental films \nCurated midnight features and shocker double-bills \nQ&A sessions\, panels\, and filmmaker spotlights \nCostume contests\, themed cocktails\, and immersive décor \nMerch booths\, indie vendors\, and horror art installations \nWhether you’re a longtime horror junkie or curious about the cult classic renaissance\, this festival is your portal to the weird\, the wonderful\, and the wicked. \nWhy Attend\nSee films you won’t find in theaters \nEngage with industry creators and fellow fans \nDress up & compete in themed costume contests \nExperience the horror community’s rich\, creative energy
URL:https://www.eventoslatinos.org/event/texas-horror-cult-film-festival/
LOCATION:The Texas Theatre\, 231 W Jefferson Blvd\, Dallas\, TX\, 75208\, United States
ATTACH;FMTTYPE=image/jpeg:https://www.eventoslatinos.org/wp-content/uploads/2025/10/https___cdn.evbuc_.com_images_1115119443_306616009319_1_original.jpeg
ORGANIZER;CN="Texas Horror & Cult Film Festival":MAILTO:info@texashorrorfilmfestival.com
END:VEVENT
END:VCALENDAR