BEGIN:VCALENDAR
VERSION:2.0
PRODID:-//Eventos Latinos - ECPv6.15.20//NONSGML v1.0//EN
CALSCALE:GREGORIAN
METHOD:PUBLISH
X-WR-CALNAME:Eventos Latinos
X-ORIGINAL-URL:https://www.eventoslatinos.org
X-WR-CALDESC:Events for Eventos Latinos
REFRESH-INTERVAL;VALUE=DURATION:PT1H
X-Robots-Tag:noindex
X-PUBLISHED-TTL:PT1H
BEGIN:VTIMEZONE
TZID:America/Chicago
BEGIN:DAYLIGHT
TZOFFSETFROM:-0600
TZOFFSETTO:-0500
TZNAME:CDT
DTSTART:20240310T080000
END:DAYLIGHT
BEGIN:STANDARD
TZOFFSETFROM:-0500
TZOFFSETTO:-0600
TZNAME:CST
DTSTART:20241103T070000
END:STANDARD
BEGIN:DAYLIGHT
TZOFFSETFROM:-0600
TZOFFSETTO:-0500
TZNAME:CDT
DTSTART:20250309T080000
END:DAYLIGHT
BEGIN:STANDARD
TZOFFSETFROM:-0500
TZOFFSETTO:-0600
TZNAME:CST
DTSTART:20251102T070000
END:STANDARD
BEGIN:DAYLIGHT
TZOFFSETFROM:-0600
TZOFFSETTO:-0500
TZNAME:CDT
DTSTART:20260308T080000
END:DAYLIGHT
BEGIN:STANDARD
TZOFFSETFROM:-0500
TZOFFSETTO:-0600
TZNAME:CST
DTSTART:20261101T070000
END:STANDARD
END:VTIMEZONE
BEGIN:VEVENT
DTSTART;TZID=America/Chicago:20251030T180000
DTEND;TZID=America/Chicago:20251030T223000
DTSTAMP:20260424T160717
CREATED:20251013T195525Z
LAST-MODIFIED:20251020T144420Z
UID:10000305-1761847200-1761863400@www.eventoslatinos.org
SUMMARY:Midland Hispanic Chamber Annual Awards Gala 2025
DESCRIPTION:Celebrate excellence in community leadership\, business\, culture\, and service at the Midland Hispanic Chamber Annual Awards Gala. This signature event brings together local stakeholders\, civic leaders\, entrepreneurs\, and residents to honor the individuals and organizations that uplift Midland through impactful work and dedication. \nThe evening features: \nAward presentations across multiple categories (business\, nonprofit\, leadership\, innovation) \nSpecial entertainment\, including comedian Raymond Orta \nLive DJ\, dancing\, and cultural performances Silent auction \n$1\,000 prize for the best Catrina costume in the Catrina Contest \nFull dinner service \nMore than recognition—it’s a celebration of heritage\, community\, and progress. \nWho Should Attend\nLocal business owners\, chamber members\, sponsors \nCommunity leaders & public officials \nCultural advocates & nonprofit staff \nResidents and supporters wanting to celebrate community impact
URL:https://www.eventoslatinos.org/event/midland-hispanic-chamber-annual-awards-gala-2025/
LOCATION:Midland County Horseshoe Arena & Pavilion\, 2514 Arena Trail\, Midland\, 79701\, United States
ATTACH;FMTTYPE=image/webp:https://www.eventoslatinos.org/wp-content/uploads/2025/10/d0ebb9de-7810-4ad1-a78b-dfd2f86cc861.webp
ORGANIZER;CN="Midland Hispanic Chamber of Commerce":MAILTO:info@midlandhcc.org
END:VEVENT
END:VCALENDAR