BEGIN:VCALENDAR
VERSION:2.0
PRODID:-//Eventos Latinos - ECPv6.15.20//NONSGML v1.0//EN
CALSCALE:GREGORIAN
METHOD:PUBLISH
X-WR-CALNAME:Eventos Latinos
X-ORIGINAL-URL:https://www.eventoslatinos.org
X-WR-CALDESC:Events for Eventos Latinos
REFRESH-INTERVAL;VALUE=DURATION:PT1H
X-Robots-Tag:noindex
X-PUBLISHED-TTL:PT1H
BEGIN:VTIMEZONE
TZID:America/Chicago
BEGIN:DAYLIGHT
TZOFFSETFROM:-0600
TZOFFSETTO:-0500
TZNAME:CDT
DTSTART:20240310T080000
END:DAYLIGHT
BEGIN:STANDARD
TZOFFSETFROM:-0500
TZOFFSETTO:-0600
TZNAME:CST
DTSTART:20241103T070000
END:STANDARD
BEGIN:DAYLIGHT
TZOFFSETFROM:-0600
TZOFFSETTO:-0500
TZNAME:CDT
DTSTART:20250309T080000
END:DAYLIGHT
BEGIN:STANDARD
TZOFFSETFROM:-0500
TZOFFSETTO:-0600
TZNAME:CST
DTSTART:20251102T070000
END:STANDARD
BEGIN:DAYLIGHT
TZOFFSETFROM:-0600
TZOFFSETTO:-0500
TZNAME:CDT
DTSTART:20260308T080000
END:DAYLIGHT
BEGIN:STANDARD
TZOFFSETFROM:-0500
TZOFFSETTO:-0600
TZNAME:CST
DTSTART:20261101T070000
END:STANDARD
END:VTIMEZONE
BEGIN:VEVENT
DTSTART;TZID=America/Chicago:20251010T193000
DTEND;TZID=America/Chicago:20251010T213000
DTSTAMP:20260424T160806
CREATED:20250910T120221Z
LAST-MODIFIED:20250910T121536Z
UID:10000277-1760124600-1760131800@www.eventoslatinos.org
SUMMARY:The 3 Mexican Tenors 2025 National Hispanic Heritage Celebration Concert
DESCRIPTION:🇲🇽The 3 Mexican Tenors 2025 \nDespués del éxito en 2023\, y 2024 regresan desde México.🇲🇽 \nInterpretando para todo el público de Dallas Fort Worth arias de ópera\, zarzuela\, canción fina mexicana\, boleros\, y rancheras. \nAcompañados por el virtuoso pianista colombiano Eduardo Rojas\, y de Mariachi Pura Sangre de Javier Aguilar. \nViernes 10 de Octubre 2025 7:30PM desde Uptown Theater de Grand Prairie. \nEvento para recaudar fondos para becas de estudiantes del distrito escolar de Grand Prairie. \n¡Ven con tu familia y amigos\, y disfruta de un concierto lleno de buena música y cultura!. \n 
URL:https://www.eventoslatinos.org/event/the-3-mexican-tenors-2025-national-hispanic-heritage-celebration-concert/
LOCATION:Uptown Theater in Grand Prairie\, 120 E Main St\, Grand Prairie\, TX\, 75050\, United States
ATTACH;FMTTYPE=image/jpeg:https://www.eventoslatinos.org/wp-content/uploads/2025/09/https___cdn.evbuc_.com_images_1109405613_2876942459971_1_original.jpeg
ORGANIZER;CN="Javier Aguilar Music Agency":MAILTO:singerlirico@gmail.com
END:VEVENT
END:VCALENDAR