BEGIN:VCALENDAR
VERSION:2.0
PRODID:-//Eventos Latinos - ECPv6.15.20//NONSGML v1.0//EN
CALSCALE:GREGORIAN
METHOD:PUBLISH
X-ORIGINAL-URL:https://www.eventoslatinos.org
X-WR-CALDESC:Events for Eventos Latinos
REFRESH-INTERVAL;VALUE=DURATION:PT1H
X-Robots-Tag:noindex
X-PUBLISHED-TTL:PT1H
BEGIN:VTIMEZONE
TZID:UTC
BEGIN:STANDARD
TZOFFSETFROM:+0000
TZOFFSETTO:+0000
TZNAME:UTC
DTSTART:20240101T000000
END:STANDARD
END:VTIMEZONE
BEGIN:VEVENT
DTSTART;TZID=UTC:20250822T070000
DTEND;TZID=UTC:20250822T210000
DTSTAMP:20260424T121805
CREATED:20250820T234113Z
LAST-MODIFIED:20250821T000512Z
UID:10000002-1755846000-1755896400@www.eventoslatinos.org
SUMMARY:I Scream Social: featuring Cecily Parks\, Stephanie Yue Duhem\, Sam Treviño
DESCRIPTION:We are so thrilled to close out the summer with an incredible lineup\, featuring Cecily Parks\, Stephanie Yue Duhem\, & Sam Treviño!\nPresented by Host Publications\, I Scream Social is a monthly feminist reading series and ice cream party that takes place at Alienated Majesty Books. \nWe aim to celebrate and empower historically marginalized writers and share incredible literature and diverse perspectives to an Austin-area audience. Hosted by Host Publications editors Annar Veröld & Claire Bowman! Free & open to all! \n***********************Open mic ************************ \nOpen mic details: sign ups for the open mic begin at 6:45pm. \nThe open mic is reserved for writers from historically marginalized communities. \nBecause slots are limited and we want to make room for everyone\, we ask that you wait until 7:10 to sign up if you joined us for the open mic the previous month. \n***********************Notes ************************ \n✦ This project is supported in part by the City of Austin Economic Development Department. \n✦ Health and safety note: masks are encouraged and will be provided for this month’s I Scream Social \n✦ At Intermission\, we will be spotlighting the following mutual-aid or community-building organizations: Inside Books Project & Austin Bat Cave
URL:https://www.eventoslatinos.org/event/i-scream-social-featuring-cecily-parks-stephanie-yue-duhem-sam-trevino/
LOCATION:Alienated Majesty Books\, 613 W 29th Street\, Austin\, TX\, 78705\, United States
ORGANIZER;CN="Host Publications":MAILTO:editors@hostpublications.com
END:VEVENT
END:VCALENDAR