BEGIN:VCALENDAR
VERSION:2.0
PRODID:-//Eventos Latinos - ECPv6.15.20//NONSGML v1.0//EN
CALSCALE:GREGORIAN
METHOD:PUBLISH
X-WR-CALNAME:Eventos Latinos
X-ORIGINAL-URL:https://www.eventoslatinos.org
X-WR-CALDESC:Events for Eventos Latinos
REFRESH-INTERVAL;VALUE=DURATION:PT1H
X-Robots-Tag:noindex
X-PUBLISHED-TTL:PT1H
BEGIN:VTIMEZONE
TZID:America/Chicago
BEGIN:DAYLIGHT
TZOFFSETFROM:-0600
TZOFFSETTO:-0500
TZNAME:CDT
DTSTART:20240310T080000
END:DAYLIGHT
BEGIN:STANDARD
TZOFFSETFROM:-0500
TZOFFSETTO:-0600
TZNAME:CST
DTSTART:20241103T070000
END:STANDARD
BEGIN:DAYLIGHT
TZOFFSETFROM:-0600
TZOFFSETTO:-0500
TZNAME:CDT
DTSTART:20250309T080000
END:DAYLIGHT
BEGIN:STANDARD
TZOFFSETFROM:-0500
TZOFFSETTO:-0600
TZNAME:CST
DTSTART:20251102T070000
END:STANDARD
BEGIN:DAYLIGHT
TZOFFSETFROM:-0600
TZOFFSETTO:-0500
TZNAME:CDT
DTSTART:20260308T080000
END:DAYLIGHT
BEGIN:STANDARD
TZOFFSETFROM:-0500
TZOFFSETTO:-0600
TZNAME:CST
DTSTART:20261101T070000
END:STANDARD
END:VTIMEZONE
BEGIN:VEVENT
DTSTART;TZID=America/Chicago:20251115T140000
DTEND;TZID=America/Chicago:20251115T180000
DTSTAMP:20260424T133845
CREATED:20251022T135940Z
LAST-MODIFIED:20251022T135940Z
UID:10001233-1763215200-1763229600@www.eventoslatinos.org
SUMMARY:VinoFest 2025
DESCRIPTION:The VinoFest 2025 at Casa Guipzot is an elegant celebration of wine\, music\, and Latin culture set in one of San Antonio’s most charming boutique venues. This annual fall festival invites guests to experience a day of sensory indulgence through curated wine tastings\, gourmet food pairings\, live performances\, and artisan showcases — all within the creative ambiance of Casa Guipzot’s artistic courtyard and event gallery. \nDedicated to the art of fine living and cultural connection\, VinoFest brings together local vintners\, international wine distributors\, chefs\, and musicians for a day that honors both sophistication and community. Attendees will enjoy unlimited tastings of premium wines from across Texas and Latin America\, as well as carefully selected imports from Spain\, Chile\, and Argentina. Expert sommeliers will guide guests through tasting sessions\, sharing insights on grape varietals\, terroir\, and pairing techniques. \nFestival Highlights: \nGuided wine tastings from regional and international producers \nGourmet food pairings from local chefs and culinary artisans \nLive music featuring Latin jazz\, flamenco\, and acoustic sets \nArtisan market with handcrafted décor\, jewelry\, and fine art \nEvening social & dance set with guest DJs and cultural performers \nBeyond wine\, VinoFest is an experience that blends art\, gastronomy\, and community engagement. Guests can explore Casa Guipzot’s rotating art installations and boutique vendors while mingling with fellow wine enthusiasts in a relaxed\, creative atmosphere. Whether you’re a seasoned connoisseur or simply curious about wine culture\, the festival offers something for every palate. \nThe 2025 edition of VinoFest continues Casa Guipzot’s mission to elevate local culture through curated events that highlight Latin heritage and artistic expression. Proceeds from the event will support Casa Guipzot’s ongoing arts programming and community outreach initiatives in San Antonio.
URL:https://www.eventoslatinos.org/event/vinofest-2025/
LOCATION:Casa Guipzot\, 1810 Fredericksburg Rd.\, San Antonio\, TX\, 78201\, United States
ATTACH;FMTTYPE=image/jpeg:https://www.eventoslatinos.org/wp-content/uploads/2025/10/2d29cb_f930f4d68f004e43bd1f5652db10d2eemv2.jpg
ORGANIZER;CN="Casa Guipzot":MAILTO:info@casaguipzot.com
END:VEVENT
END:VCALENDAR