BEGIN:VCALENDAR
VERSION:2.0
PRODID:-//Eventos Latinos - ECPv6.15.20//NONSGML v1.0//EN
CALSCALE:GREGORIAN
METHOD:PUBLISH
X-WR-CALNAME:Eventos Latinos
X-ORIGINAL-URL:https://www.eventoslatinos.org
X-WR-CALDESC:Events for Eventos Latinos
REFRESH-INTERVAL;VALUE=DURATION:PT1H
X-Robots-Tag:noindex
X-PUBLISHED-TTL:PT1H
BEGIN:VTIMEZONE
TZID:America/Chicago
BEGIN:DAYLIGHT
TZOFFSETFROM:-0600
TZOFFSETTO:-0500
TZNAME:CDT
DTSTART:20240310T080000
END:DAYLIGHT
BEGIN:STANDARD
TZOFFSETFROM:-0500
TZOFFSETTO:-0600
TZNAME:CST
DTSTART:20241103T070000
END:STANDARD
BEGIN:DAYLIGHT
TZOFFSETFROM:-0600
TZOFFSETTO:-0500
TZNAME:CDT
DTSTART:20250309T080000
END:DAYLIGHT
BEGIN:STANDARD
TZOFFSETFROM:-0500
TZOFFSETTO:-0600
TZNAME:CST
DTSTART:20251102T070000
END:STANDARD
BEGIN:DAYLIGHT
TZOFFSETFROM:-0600
TZOFFSETTO:-0500
TZNAME:CDT
DTSTART:20260308T080000
END:DAYLIGHT
BEGIN:STANDARD
TZOFFSETFROM:-0500
TZOFFSETTO:-0600
TZNAME:CST
DTSTART:20261101T070000
END:STANDARD
END:VTIMEZONE
BEGIN:VEVENT
DTSTART;TZID=America/Chicago:20251108T180000
DTEND;TZID=America/Chicago:20251108T230000
DTSTAMP:20260425T102247
CREATED:20250911T145744Z
LAST-MODIFIED:20250911T152441Z
UID:10000280-1762624800-1762642800@www.eventoslatinos.org
SUMMARY:2025 Annual Awards Gala
DESCRIPTION:Celebrate excellence at the 2025 Annual Awards Gala—a vibrant black-tie evening recognizing the achievements of entrepreneurs\, business leaders\, and rising stars across Houston’s Hispanic business community. This is not a sit-down dinner; instead\, enjoy a sophisticated atmosphere with multiple food stations\, live music for dancing\, and opportunities to mix and mingle with CEOs\, influencers\, and emerging leaders.
URL:https://www.eventoslatinos.org/event/2025-annual-awards-gala/
LOCATION:Thompson Houston\, 1717 Allen Parkway\, Houston\, TX\, 77019\, United States
ATTACH;FMTTYPE=image/jpeg:https://www.eventoslatinos.org/wp-content/uploads/2025/09/ChatGPT-Image-Sep-11-2025-08_56_59-AM.jpg
ORGANIZER;CN="Houston Hispanic Chamber of Commerce":MAILTO:info@houstonhispanicchamber.com
END:VEVENT
BEGIN:VEVENT
DTSTART;TZID=America/Chicago:20251109T090000
DTEND;TZID=America/Chicago:20251109T200000
DTSTAMP:20260425T102247
CREATED:20251021T001234Z
LAST-MODIFIED:20251021T005034Z
UID:10000327-1762678800-1762718400@www.eventoslatinos.org
SUMMARY:Texas Renaissance Festival 2025
DESCRIPTION:The Texas Renaissance Festival (TRF) is the nation’s largest and most celebrated Renaissance-themed event\, transporting visitors back in time to the 16th century for nine magical weekends of entertainment\, artistry\, and adventure. Located on over 70 acres of wooded fairgrounds in Todd Mission\, Texas\, the festival offers an immersive experience featuring costumed performers\, live music\, artisan markets\, themed feasts\, and world-class theatrical productions. \nEach weekend from October 4 through November 30\, 2025\, TRF welcomes guests to explore its vibrant village of more than 400 shops\, stages\, and food pavilions. Visitors can enjoy jousting tournaments\, falconry demonstrations\, comedy shows\, juggling acts\, and musical performances from international talent. The festival’s signature marketplace showcases handcrafted jewelry\, leather goods\, metalwork\, pottery\, and other artisan creations that make for unique souvenirs and gifts. \nThe festival’s 2025 season features themed weekends that highlight different aspects of history and culture\, such as: \nOktoberfest Weekend – Traditional German music\, beer\, and dancing \n1001 Dreams—Fantasy creatures and fairy magic \nAll Hallows Eve—Spooky delights and costume contests \nHighland Fling—Bagpipes\, kilts\, and Scottish pride \nPirate Adventure—Seafaring fun for the whole family \nHeroes & Villains—Comic-inspired cosplay and games \nGuests can indulge in hundreds of culinary delights ranging from roasted turkey legs and Scotch eggs to mead\, ale\, and gourmet desserts. Families can also enjoy the festival’s children’s area\, rides\, and games designed to engage visitors of all ages. \nFor those seeking an extended experience\, TRF offers camping and glamping options at the nearby Fields of New Market Campground\, featuring nightly entertainment\, live music\, and themed activities under the stars. \nThe Texas Renaissance Festival has been enchanting visitors since 1974 and attracts more than half a million guests annually. Its dedication to craftsmanship\, performance\, and historical storytelling continues to make it one of Texas’s most iconic fall traditions.
URL:https://www.eventoslatinos.org/event/texas-renaissance-festival-2025/2025-11-09/
LOCATION:Texas Renaissance Festival Grounds\, 21778 Farm to Market 1774\, Todd Mission\, TX\, 77363\, United States
ATTACH;FMTTYPE=image/jpeg:https://www.eventoslatinos.org/wp-content/uploads/2025/10/TRF45-1-9976.jpg
ORGANIZER;CN="Texas Renaissance Festival%2C Inc.":MAILTO:info@texrenfest.com
END:VEVENT
BEGIN:VEVENT
DTSTART;TZID=America/Chicago:20251109T110000
DTEND;TZID=America/Chicago:20251109T230000
DTSTAMP:20260425T102247
CREATED:20251021T005513Z
LAST-MODIFIED:20251021T005514Z
UID:10001221-1762686000-1762729200@www.eventoslatinos.org
SUMMARY:Wurstfest 2025
DESCRIPTION:Wurstfest 2025 is a ten-day celebration of German culture\, music\, food\, and fun in the heart of the Texas Hill Country. Set along the banks of the Comal River in New Braunfels\, Texas\, this world-famous festival—often called “the best ten days in sausage history”—invites visitors to raise a stein and enjoy the state’s most authentic Oktoberfest-style experience. \nNow entering its 65th season\, Wurstfest combines old-world charm with Texas hospitality\, offering a lively mix of polka music\, Bavarian entertainment\, carnival rides\, and traditional German food and beer. Visitors can explore sprawling festival grounds featuring multiple music tents\, dance halls\, craft beer gardens\, and riverside seating\, all designed to create an atmosphere reminiscent of Munich’s legendary Oktoberfest. \nFestival Highlights: \nLive performances by local and international German bands playing polka\, waltz\, and folk music \nAuthentic cuisine\, including bratwurst\, schnitzel\, strudel\, and pretzels \nGerman\, Texan\, and craft beers served in souvenir steins \nKinderhalle children’s area with family-friendly activities \nBavarian marketplace featuring artisan goods\, souvenirs\, and collectibles \nCarnival midway\, games\, and traditional parades \nEvery year\, thousands of visitors—many dressed in lederhosen and dirndls—descend on New Braunfels to experience this vibrant cultural tradition. The festival’s riverside location offers scenic views\, cool breezes\, and easy access to the city’s historic downtown district\, making it a favorite destination for locals and travelers alike. \nWurstfest’s enduring popularity reflects New Braunfels’ deep German roots and its commitment to preserving cultural heritage while celebrating community and fellowship. What began in 1961 as a one-day sausage festival has grown into a beloved international attraction that honors tradition\, music\, and\, of course\, the wurst.
URL:https://www.eventoslatinos.org/event/wurstfest-2025-3/2025-11-09/
LOCATION:Wurstfest Grounds\, 120 Landa St.\, New Braunfels\, TX\, 78130\, United States
ATTACH;FMTTYPE=image/jpeg:https://www.eventoslatinos.org/wp-content/uploads/2025/10/Wurstfest-New-Baunfels-Texas.jpg
ORGANIZER;CN="Wurstfest Association of New Braunfels":MAILTO:info@wurstfest.com
END:VEVENT
BEGIN:VEVENT
DTSTART;TZID=America/Chicago:20251110T110000
DTEND;TZID=America/Chicago:20251110T230000
DTSTAMP:20260425T102247
CREATED:20251021T005513Z
LAST-MODIFIED:20251021T005514Z
UID:10001222-1762772400-1762815600@www.eventoslatinos.org
SUMMARY:Wurstfest 2025
DESCRIPTION:Wurstfest 2025 is a ten-day celebration of German culture\, music\, food\, and fun in the heart of the Texas Hill Country. Set along the banks of the Comal River in New Braunfels\, Texas\, this world-famous festival—often called “the best ten days in sausage history”—invites visitors to raise a stein and enjoy the state’s most authentic Oktoberfest-style experience. \nNow entering its 65th season\, Wurstfest combines old-world charm with Texas hospitality\, offering a lively mix of polka music\, Bavarian entertainment\, carnival rides\, and traditional German food and beer. Visitors can explore sprawling festival grounds featuring multiple music tents\, dance halls\, craft beer gardens\, and riverside seating\, all designed to create an atmosphere reminiscent of Munich’s legendary Oktoberfest. \nFestival Highlights: \nLive performances by local and international German bands playing polka\, waltz\, and folk music \nAuthentic cuisine\, including bratwurst\, schnitzel\, strudel\, and pretzels \nGerman\, Texan\, and craft beers served in souvenir steins \nKinderhalle children’s area with family-friendly activities \nBavarian marketplace featuring artisan goods\, souvenirs\, and collectibles \nCarnival midway\, games\, and traditional parades \nEvery year\, thousands of visitors—many dressed in lederhosen and dirndls—descend on New Braunfels to experience this vibrant cultural tradition. The festival’s riverside location offers scenic views\, cool breezes\, and easy access to the city’s historic downtown district\, making it a favorite destination for locals and travelers alike. \nWurstfest’s enduring popularity reflects New Braunfels’ deep German roots and its commitment to preserving cultural heritage while celebrating community and fellowship. What began in 1961 as a one-day sausage festival has grown into a beloved international attraction that honors tradition\, music\, and\, of course\, the wurst.
URL:https://www.eventoslatinos.org/event/wurstfest-2025-3/2025-11-10/
LOCATION:Wurstfest Grounds\, 120 Landa St.\, New Braunfels\, TX\, 78130\, United States
ATTACH;FMTTYPE=image/jpeg:https://www.eventoslatinos.org/wp-content/uploads/2025/10/Wurstfest-New-Baunfels-Texas.jpg
ORGANIZER;CN="Wurstfest Association of New Braunfels":MAILTO:info@wurstfest.com
END:VEVENT
BEGIN:VEVENT
DTSTART;TZID=America/Chicago:20251111T110000
DTEND;TZID=America/Chicago:20251111T230000
DTSTAMP:20260425T102247
CREATED:20251021T005513Z
LAST-MODIFIED:20251021T005514Z
UID:10001223-1762858800-1762902000@www.eventoslatinos.org
SUMMARY:Wurstfest 2025
DESCRIPTION:Wurstfest 2025 is a ten-day celebration of German culture\, music\, food\, and fun in the heart of the Texas Hill Country. Set along the banks of the Comal River in New Braunfels\, Texas\, this world-famous festival—often called “the best ten days in sausage history”—invites visitors to raise a stein and enjoy the state’s most authentic Oktoberfest-style experience. \nNow entering its 65th season\, Wurstfest combines old-world charm with Texas hospitality\, offering a lively mix of polka music\, Bavarian entertainment\, carnival rides\, and traditional German food and beer. Visitors can explore sprawling festival grounds featuring multiple music tents\, dance halls\, craft beer gardens\, and riverside seating\, all designed to create an atmosphere reminiscent of Munich’s legendary Oktoberfest. \nFestival Highlights: \nLive performances by local and international German bands playing polka\, waltz\, and folk music \nAuthentic cuisine\, including bratwurst\, schnitzel\, strudel\, and pretzels \nGerman\, Texan\, and craft beers served in souvenir steins \nKinderhalle children’s area with family-friendly activities \nBavarian marketplace featuring artisan goods\, souvenirs\, and collectibles \nCarnival midway\, games\, and traditional parades \nEvery year\, thousands of visitors—many dressed in lederhosen and dirndls—descend on New Braunfels to experience this vibrant cultural tradition. The festival’s riverside location offers scenic views\, cool breezes\, and easy access to the city’s historic downtown district\, making it a favorite destination for locals and travelers alike. \nWurstfest’s enduring popularity reflects New Braunfels’ deep German roots and its commitment to preserving cultural heritage while celebrating community and fellowship. What began in 1961 as a one-day sausage festival has grown into a beloved international attraction that honors tradition\, music\, and\, of course\, the wurst.
URL:https://www.eventoslatinos.org/event/wurstfest-2025-3/2025-11-11/
LOCATION:Wurstfest Grounds\, 120 Landa St.\, New Braunfels\, TX\, 78130\, United States
ATTACH;FMTTYPE=image/jpeg:https://www.eventoslatinos.org/wp-content/uploads/2025/10/Wurstfest-New-Baunfels-Texas.jpg
ORGANIZER;CN="Wurstfest Association of New Braunfels":MAILTO:info@wurstfest.com
END:VEVENT
BEGIN:VEVENT
DTSTART;TZID=America/Chicago:20251112T110000
DTEND;TZID=America/Chicago:20251112T230000
DTSTAMP:20260425T102247
CREATED:20251021T005513Z
LAST-MODIFIED:20251021T005514Z
UID:10001224-1762945200-1762988400@www.eventoslatinos.org
SUMMARY:Wurstfest 2025
DESCRIPTION:Wurstfest 2025 is a ten-day celebration of German culture\, music\, food\, and fun in the heart of the Texas Hill Country. Set along the banks of the Comal River in New Braunfels\, Texas\, this world-famous festival—often called “the best ten days in sausage history”—invites visitors to raise a stein and enjoy the state’s most authentic Oktoberfest-style experience. \nNow entering its 65th season\, Wurstfest combines old-world charm with Texas hospitality\, offering a lively mix of polka music\, Bavarian entertainment\, carnival rides\, and traditional German food and beer. Visitors can explore sprawling festival grounds featuring multiple music tents\, dance halls\, craft beer gardens\, and riverside seating\, all designed to create an atmosphere reminiscent of Munich’s legendary Oktoberfest. \nFestival Highlights: \nLive performances by local and international German bands playing polka\, waltz\, and folk music \nAuthentic cuisine\, including bratwurst\, schnitzel\, strudel\, and pretzels \nGerman\, Texan\, and craft beers served in souvenir steins \nKinderhalle children’s area with family-friendly activities \nBavarian marketplace featuring artisan goods\, souvenirs\, and collectibles \nCarnival midway\, games\, and traditional parades \nEvery year\, thousands of visitors—many dressed in lederhosen and dirndls—descend on New Braunfels to experience this vibrant cultural tradition. The festival’s riverside location offers scenic views\, cool breezes\, and easy access to the city’s historic downtown district\, making it a favorite destination for locals and travelers alike. \nWurstfest’s enduring popularity reflects New Braunfels’ deep German roots and its commitment to preserving cultural heritage while celebrating community and fellowship. What began in 1961 as a one-day sausage festival has grown into a beloved international attraction that honors tradition\, music\, and\, of course\, the wurst.
URL:https://www.eventoslatinos.org/event/wurstfest-2025-3/2025-11-12/
LOCATION:Wurstfest Grounds\, 120 Landa St.\, New Braunfels\, TX\, 78130\, United States
ATTACH;FMTTYPE=image/jpeg:https://www.eventoslatinos.org/wp-content/uploads/2025/10/Wurstfest-New-Baunfels-Texas.jpg
ORGANIZER;CN="Wurstfest Association of New Braunfels":MAILTO:info@wurstfest.com
END:VEVENT
BEGIN:VEVENT
DTSTART;TZID=America/Chicago:20251113T090000
DTEND;TZID=America/Chicago:20251113T140000
DTSTAMP:20260425T102247
CREATED:20251011T021018Z
LAST-MODIFIED:20251105T172035Z
UID:10000302-1763024400-1763042400@www.eventoslatinos.org
SUMMARY:2025 LATINA Style Business Series
DESCRIPTION:The LATINA Style Business Series (LSBS) returns to Texas for its 27th year as the nation’s longest-running business development program created exclusively for Latina entrepreneurs\, executives\, and professionals. Hosted by LATINA Style Inc.\, this influential event serves as a powerful platform for education\, mentorship\, and empowerment\, uniting Latina business owners with corporate leaders\, government agencies\, and financial institutions that champion inclusion and enterprise growth. \nThe Texas stop of the 2025 Business Series—part of a national multi-city tour—will convene at a major metropolitan hub (typically Dallas\, Houston\, or San Antonio) and deliver a full day of keynote presentations\, expert-led workshops\, and interactive networking sessions. Its goal is simple yet transformative: to provide Latinas with the practical tools\, access\, and inspiration needed to start\, scale\, and sustain successful businesses in today’s competitive marketplace. \nEach year\, LSBS collaborates with leading organizations such as the U.S. Small Business Administration (SBA)\, U.S. Hispanic Chamber of Commerce (USHCC)\, and local chambers to curate relevant\, high-impact content. Attendees engage directly with subject-matter experts across vital topics including business financing\, digital marketing\, supplier diversity\, federal contracting\, leadership development\, and brand positioning. Whether you’re a start-up founder\, a second-generation business owner\, or a corporate professional planning your next leap\, the LATINA Style Business Series offers tangible strategies to help you grow with confidence. \nOne of the program’s highlights is its signature Entrepreneur Spotlight Panel\, where prominent Latina CEOs and innovators share real-world experiences on overcoming challenges\, building resilience\, and scaling businesses while maintaining cultural authenticity. These conversations are intentionally candid\, addressing unique barriers faced by Latinas in access to capital\, mentorship\, and visibility—while celebrating the determination\, creativity\, and leadership that define the community. The Corporate Diversity Roundtable connects supplier diversity managers from Fortune 500 companies with local small-business owners\, creating procurement and partnership opportunities that last long after the event concludes. \nThe series also includes networking breakfasts\, business matchmaking sessions\, and the Latinas of Excellence Recognition Luncheon\, honoring women who exemplify professional success and civic impact. This celebratory component underscores LSBS’s dual mission: to recognize the extraordinary while cultivating the next generation of Latina trailblazers. \nSince its inception in 1998\, the LATINA Style Business Series has reached over 45\,000 participants across more than 130 cities. Its Texas editions\, often among the largest\, embody the state’s entrepreneurial spirit and its growing influence as a national leader in Latina-owned business creation. Attendees consistently cite the event’s unique blend of practical training and cultural pride as what sets it apart—it’s not only about business growth but also about belonging\, purpose\, and representation. \nWith its focus on connection\, mentorship\, and actionable strategy\, the LATINA Style Business Series – Texas Edition 2025 is more than a conference; it’s a movement. It stands at the intersection of empowerment and enterprise\, ensuring that every Latina entrepreneur in Texas and beyond has the tools and community to rise\, lead\, and thrive.
URL:https://www.eventoslatinos.org/event/2025-latina-style-business-series/
LOCATION:Joe C Thompson Conference Center\, 2405 Robert Dedman Dr\, Austin\, TX\, 78712\, United States
ATTACH;FMTTYPE=image/jpeg:https://www.eventoslatinos.org/wp-content/uploads/2025/10/ChatGPT-Image-Oct-10-2025-07_56_51-PM.jpg
ORGANIZER;CN="LATINA Style Inc.":MAILTO:info@latinastyle.com
END:VEVENT
BEGIN:VEVENT
DTSTART;TZID=America/Chicago:20251113T110000
DTEND;TZID=America/Chicago:20251113T230000
DTSTAMP:20260425T102247
CREATED:20251021T005513Z
LAST-MODIFIED:20251021T005514Z
UID:10001225-1763031600-1763074800@www.eventoslatinos.org
SUMMARY:Wurstfest 2025
DESCRIPTION:Wurstfest 2025 is a ten-day celebration of German culture\, music\, food\, and fun in the heart of the Texas Hill Country. Set along the banks of the Comal River in New Braunfels\, Texas\, this world-famous festival—often called “the best ten days in sausage history”—invites visitors to raise a stein and enjoy the state’s most authentic Oktoberfest-style experience. \nNow entering its 65th season\, Wurstfest combines old-world charm with Texas hospitality\, offering a lively mix of polka music\, Bavarian entertainment\, carnival rides\, and traditional German food and beer. Visitors can explore sprawling festival grounds featuring multiple music tents\, dance halls\, craft beer gardens\, and riverside seating\, all designed to create an atmosphere reminiscent of Munich’s legendary Oktoberfest. \nFestival Highlights: \nLive performances by local and international German bands playing polka\, waltz\, and folk music \nAuthentic cuisine\, including bratwurst\, schnitzel\, strudel\, and pretzels \nGerman\, Texan\, and craft beers served in souvenir steins \nKinderhalle children’s area with family-friendly activities \nBavarian marketplace featuring artisan goods\, souvenirs\, and collectibles \nCarnival midway\, games\, and traditional parades \nEvery year\, thousands of visitors—many dressed in lederhosen and dirndls—descend on New Braunfels to experience this vibrant cultural tradition. The festival’s riverside location offers scenic views\, cool breezes\, and easy access to the city’s historic downtown district\, making it a favorite destination for locals and travelers alike. \nWurstfest’s enduring popularity reflects New Braunfels’ deep German roots and its commitment to preserving cultural heritage while celebrating community and fellowship. What began in 1961 as a one-day sausage festival has grown into a beloved international attraction that honors tradition\, music\, and\, of course\, the wurst.
URL:https://www.eventoslatinos.org/event/wurstfest-2025-3/2025-11-13/
LOCATION:Wurstfest Grounds\, 120 Landa St.\, New Braunfels\, TX\, 78130\, United States
ATTACH;FMTTYPE=image/jpeg:https://www.eventoslatinos.org/wp-content/uploads/2025/10/Wurstfest-New-Baunfels-Texas.jpg
ORGANIZER;CN="Wurstfest Association of New Braunfels":MAILTO:info@wurstfest.com
END:VEVENT
BEGIN:VEVENT
DTSTART;TZID=America/Chicago:20251113T150000
DTEND;TZID=America/Chicago:20251113T170000
DTSTAMP:20260425T102247
CREATED:20251022T024205Z
LAST-MODIFIED:20251022T132147Z
UID:10001232-1763046000-1763053200@www.eventoslatinos.org
SUMMARY:OPA Rosario Castellanos Seminar – Inaugural Event
DESCRIPTION:The OPA Rosario Castellanos Seminar—Inaugural Event marks the launch of a new academic and cultural initiative at the University of Texas at Austin’s College of Liberal Arts\, celebrating the life\, work\, and enduring influence of Mexican writer\, diplomat\, and feminist thinker Rosario Castellanos (1925–1974). \nHosted by the Office of Public Affairs and the Department of Spanish and Portuguese\, this seminar serves as the first in an ongoing series dedicated to exploring Latin American literature\, philosophy\, and gender studies. The inaugural event brings together scholars\, writers\, and students to reflect on Castellanos’s literary legacy and her pivotal role in shaping modern feminist and decolonial thought. \nThe program will feature a keynote lecture by a distinguished visiting scholar\, followed by a panel discussion with UT faculty experts in Latin American studies\, literature\, and gender theory. Participants will engage in dialogue about Castellanos’s contributions to the intellectual history of Mexico and the global discourse on identity\, creativity\, and resistance. \nProgram Highlights: \nWelcome remarks by the College of Liberal Arts Dean and the Office of Public Affairs \nKeynote address: “Rosario Castellanos and the Voice of Latin American Feminism” \nFaculty panel discussion and Q&A \nNetworking reception with light refreshments \nThe Rosario Castellanos Seminar Series is designed to foster cross-disciplinary engagement and community participation\, aligning with UT Austin’s mission to promote global understanding and academic excellence. It will serve as a platform for ongoing cultural exchange between the university and the broader Latinx and Latin American communities of Texas.
URL:https://www.eventoslatinos.org/event/opa-rosario-castellanos-seminar-inaugural-event/
LOCATION:Patton Hall (RLP 1.302E)\, 305 E. 23rd St.\, Austin\, TX\, 78712\, United States
ATTACH;FMTTYPE=image/png:https://www.eventoslatinos.org/wp-content/uploads/2025/10/rosario_castellanos_seminar_inaugural_event.png
ORGANIZER;CN="College of Liberal Arts %E2%80%93 Office of Public Affairs (University of Texas at Austin)":MAILTO:liberalarts@austin.utexas.edu
END:VEVENT
BEGIN:VEVENT
DTSTART;TZID=America/Chicago:20251114T110000
DTEND;TZID=America/Chicago:20251114T230000
DTSTAMP:20260425T102247
CREATED:20251021T005513Z
LAST-MODIFIED:20251021T005514Z
UID:10001226-1763118000-1763161200@www.eventoslatinos.org
SUMMARY:Wurstfest 2025
DESCRIPTION:Wurstfest 2025 is a ten-day celebration of German culture\, music\, food\, and fun in the heart of the Texas Hill Country. Set along the banks of the Comal River in New Braunfels\, Texas\, this world-famous festival—often called “the best ten days in sausage history”—invites visitors to raise a stein and enjoy the state’s most authentic Oktoberfest-style experience. \nNow entering its 65th season\, Wurstfest combines old-world charm with Texas hospitality\, offering a lively mix of polka music\, Bavarian entertainment\, carnival rides\, and traditional German food and beer. Visitors can explore sprawling festival grounds featuring multiple music tents\, dance halls\, craft beer gardens\, and riverside seating\, all designed to create an atmosphere reminiscent of Munich’s legendary Oktoberfest. \nFestival Highlights: \nLive performances by local and international German bands playing polka\, waltz\, and folk music \nAuthentic cuisine\, including bratwurst\, schnitzel\, strudel\, and pretzels \nGerman\, Texan\, and craft beers served in souvenir steins \nKinderhalle children’s area with family-friendly activities \nBavarian marketplace featuring artisan goods\, souvenirs\, and collectibles \nCarnival midway\, games\, and traditional parades \nEvery year\, thousands of visitors—many dressed in lederhosen and dirndls—descend on New Braunfels to experience this vibrant cultural tradition. The festival’s riverside location offers scenic views\, cool breezes\, and easy access to the city’s historic downtown district\, making it a favorite destination for locals and travelers alike. \nWurstfest’s enduring popularity reflects New Braunfels’ deep German roots and its commitment to preserving cultural heritage while celebrating community and fellowship. What began in 1961 as a one-day sausage festival has grown into a beloved international attraction that honors tradition\, music\, and\, of course\, the wurst.
URL:https://www.eventoslatinos.org/event/wurstfest-2025-3/2025-11-14/
LOCATION:Wurstfest Grounds\, 120 Landa St.\, New Braunfels\, TX\, 78130\, United States
ATTACH;FMTTYPE=image/jpeg:https://www.eventoslatinos.org/wp-content/uploads/2025/10/Wurstfest-New-Baunfels-Texas.jpg
ORGANIZER;CN="Wurstfest Association of New Braunfels":MAILTO:info@wurstfest.com
END:VEVENT
END:VCALENDAR