BEGIN:VCALENDAR
VERSION:2.0
PRODID:-//Eventos Latinos - ECPv6.15.20//NONSGML v1.0//EN
CALSCALE:GREGORIAN
METHOD:PUBLISH
X-WR-CALNAME:Eventos Latinos
X-ORIGINAL-URL:https://www.eventoslatinos.org
X-WR-CALDESC:Events for Eventos Latinos
REFRESH-INTERVAL;VALUE=DURATION:PT1H
X-Robots-Tag:noindex
X-PUBLISHED-TTL:PT1H
BEGIN:VTIMEZONE
TZID:America/Chicago
BEGIN:DAYLIGHT
TZOFFSETFROM:-0600
TZOFFSETTO:-0500
TZNAME:CDT
DTSTART:20240310T080000
END:DAYLIGHT
BEGIN:STANDARD
TZOFFSETFROM:-0500
TZOFFSETTO:-0600
TZNAME:CST
DTSTART:20241103T070000
END:STANDARD
BEGIN:DAYLIGHT
TZOFFSETFROM:-0600
TZOFFSETTO:-0500
TZNAME:CDT
DTSTART:20250309T080000
END:DAYLIGHT
BEGIN:STANDARD
TZOFFSETFROM:-0500
TZOFFSETTO:-0600
TZNAME:CST
DTSTART:20251102T070000
END:STANDARD
BEGIN:DAYLIGHT
TZOFFSETFROM:-0600
TZOFFSETTO:-0500
TZNAME:CDT
DTSTART:20260308T080000
END:DAYLIGHT
BEGIN:STANDARD
TZOFFSETFROM:-0500
TZOFFSETTO:-0600
TZNAME:CST
DTSTART:20261101T070000
END:STANDARD
END:VTIMEZONE
BEGIN:VTIMEZONE
TZID:UTC
BEGIN:STANDARD
TZOFFSETFROM:+0000
TZOFFSETTO:+0000
TZNAME:UTC
DTSTART:20240101T000000
END:STANDARD
END:VTIMEZONE
BEGIN:VEVENT
DTSTART;TZID=America/Chicago:20250914T173000
DTEND;TZID=America/Chicago:20250914T193000
DTSTAMP:20260425T091519
CREATED:20250903T220646Z
LAST-MODIFIED:20250904T152659Z
UID:10000271-1757871000-1757878200@www.eventoslatinos.org
SUMMARY:Mariachi Rock Revolution: The Electrified Experience
DESCRIPTION:Kick off Hispanic Heritage Month with a very special night benefiting Mariachi Para Todos at the Long Center Sunday September 14th featuring Haydn Vitera’s Mariachi Rock Revolution and special guests! \nIf you’ve ever wondered what Trans-Siberian Orchestra would sound like if it was born on the border\, this is it! “Mariachi Rock Revolution: The Electrified Experience” is a dynamic fusion of traditional mariachi and modern rock that celebrates the diverse cultural roots of our Hispanic heritage. This unique event will feature Mariachi Rock Revolution and The University of Texas Mariachi Paredes along with Grammy-winner Rick Treviño\, and will highlight Latinx artistry while bringing together music lovers from all walks of life. Proceeds from ticket sales will go to support Austin Soundwaves’ Mariachi Para Todos program as they expand to meet growing community demand.  Join us for this unforgettable night supporting the Austin Mariachi community and celebrating Mexican music and culture!
URL:https://www.eventoslatinos.org/event/mariachi-rock-revolution-the-electrified-experience/
LOCATION:Long Center\, 701 W. Riverside Drive\, Austin\, TX\, 78704\, United States
ATTACH;FMTTYPE=image/jpeg:https://www.eventoslatinos.org/wp-content/uploads/2025/09/imgi_15_Mariachi-Rock-Revolution-1920x1080-1.jpg
ORGANIZER;CN="Mariachi Rock Revolution":MAILTO:haydn@mariachirockrevolution.com
END:VEVENT
BEGIN:VEVENT
DTSTART;TZID=America/Chicago:20250915T180000
DTEND;TZID=America/Chicago:20250915T210000
DTSTAMP:20260425T091519
CREATED:20250908T145729Z
LAST-MODIFIED:20250908T161945Z
UID:10000274-1757959200-1757970000@www.eventoslatinos.org
SUMMARY:Fiesta de la Independencia de México
DESCRIPTION:Austin-Saltillo Sister Cities Association (ASSCA)\, in collaboration with the Mexican Consulate in Austin\, Downtown Austin Alliance Foundation\, the City of Austin\, Garcia Injury Law\, Casa Garcia’s Mexican Restaurant & Cantina\, and Texas Gas Services\, cordially invites the Austin metropolitan area and Central Texas to attend the La Fiesta del Grito de la Independencia de México from 6 to 9 p.m. on Monday\, Sept. 15 at Republic Square Park\, 422 Guadalupe Street. \nThis free event marks the 215th anniversary of the beginning of the independence of Mexico. The highlight of the evening will be when Consul General of México Humberto Hernández Haddad reenacts the cry for independence. \nEntertainment will feature the Roy Lozano Ballet Folklórico\, Mariachi Capital\, and other bands. The event will include a Mexican artisan mercado; a community resource fair with information on health care\, immigration\, and the shared history of Texas\, Mexico\, and Austin; as well as children’s activities. \nThis preservation project is supported in part by the Heritage Tourism Division of the City of Austin Office of Arts\, Culture\, Music\, and Entertainment
URL:https://www.eventoslatinos.org/event/fiesta-de-la-independencia-de-mexico/
LOCATION:Republic Square\, 422 Guadalupe St\, Austin\, 78701\, United States
ATTACH;FMTTYPE=image/jpeg:https://www.eventoslatinos.org/wp-content/uploads/2025/09/https___cdn.evbuc_.com_images_1096942063_738311715213_1_original.jpeg
ORGANIZER;CN="Austin-Saltillo Sister Cities Association":MAILTO:Saltillo@austinsistercities.com
END:VEVENT
BEGIN:VEVENT
DTSTART;TZID=UTC:20250920T100000
DTEND;TZID=UTC:20250920T140000
DTSTAMP:20260425T091519
CREATED:20250821T001530Z
LAST-MODIFIED:20250827T051035Z
UID:10000008-1758362400-1758376800@www.eventoslatinos.org
SUMMARY:Cafe\, Cultura\, y Amistad
DESCRIPTION:OPEN HOUSE every Saturday when the center is open! Tourists and visitors enjoy free Puerto Rican coffee\, conversation & displays of traditional music\, dance\, and cultural arts programs. Bendicion\, community elders! We are especially excited to see you! Open house includes a free tour of the center and a souvenir photo with company and students for social media!
URL:https://www.eventoslatinos.org/event/cafe-cultura-y-amistad/2025-09-20/
LOCATION:Puerto Rican Cultural Center\, 701 Tillery Street #13\, Austin\, TX\, 78702\, United States
ATTACH;FMTTYPE=image/jpeg:https://www.eventoslatinos.org/wp-content/uploads/2025/08/GrandOpenHouse2006.entrance.jpg
ORGANIZER;CN="Puerto Rican Cultural Center":MAILTO:dance@prfdance.org
END:VEVENT
BEGIN:VEVENT
DTSTART;TZID=America/Chicago:20250920T170000
DTEND;TZID=America/Chicago:20250920T233000
DTSTAMP:20260425T091519
CREATED:20250903T201835Z
LAST-MODIFIED:20250908T224601Z
UID:10000270-1758387600-1758411000@www.eventoslatinos.org
SUMMARY:2025 52nd Annual Gala and Awards Celebration\, Hecho en Fort Worth
DESCRIPTION:The 52nd Annual Gala is occurring during National Hispanic Heritage Month as the Fort Worth Hispanic Chamber of Commerce honors and commemorates our commitment to fostering a vibrant economic environment for our members\, individuals\, and the greater Fort Worth area. Together\, with your support\, our vision is to participate and contribute to building a better Fort Worth through inclusion and strategic partnerships. Hecho en Fort Worth is not only a celebratory evening gala but also a reminder of our homage to the successful businesses that have taken root in our great city. \nFWHCC Annual Gala Awards include Businessman of the Year\, Businesswoman of the Year\, Community Advocate of the Year\, Community Advocate of the Year\, Chairman’s Award\, Business of the Year\, Ambassador of the Year and the John V. McMillan Hall of Fame Award. \nTo help you prepare\, here are some helpful tips: \n\nThe event timeframe is from 5 pm to 11:30 pm.\n\n5 pm Registration\, Networking\, Mercado Silent Auction\n6 pm Doors Open\n7 pm Invocation\n7:15 pm Tequila Toast\n7:30 pm Awards Program\n9 pm Live Entertainment\n\n\n\nNo Refunds After September 1st\, 2025. 
URL:https://www.eventoslatinos.org/event/2025-52nd-annual-gala-and-awards-celebration-hecho-en-fort-worth/
LOCATION:Fort Worth Convention Center\, 1201 Houston St\, Fort Worth\, TX\, 76102\, United States
ATTACH;FMTTYPE=image/jpeg:https://www.eventoslatinos.org/wp-content/uploads/2025/09/EventPhotoFull_Gala2025_banner.jpg
ORGANIZER;CN="Fort Worth Hispanic Chamber of Commerce":MAILTO:admin@fwhcc.org
END:VEVENT
BEGIN:VEVENT
DTSTART;TZID=America/Chicago:20250923T083000
DTEND;TZID=America/Chicago:20250923T103000
DTSTAMP:20260425T091519
CREATED:20250923T184857Z
LAST-MODIFIED:20250923T185009Z
UID:10000283-1758616200-1758623400@www.eventoslatinos.org
SUMMARY:Austin City Council 2025 Hispanic Heritage Month Proclamation
DESCRIPTION:Description:Join the City of Austin in celebrating the rich contributions of the Hispanic community during the annual Hispanic Heritage Month Proclamation. This official ceremony honors local individuals and organizations for their cultural\, civic\, and leadership achievements. Come together with city leaders\, community members\, and special guests to recognize heritage\, stories\, and the ongoing impact of Hispanic culture in Austin. \nDetails: \n\n\nWhen: 2025 (date/time per official announcement) \n\n\nWhere: City Hall\, Austin \n\n\nWho Should Attend: Community members\, supporters of Hispanic culture\, organizations\, families\, and anyone wishing to show their respect and solidarity \n\n\nWhy Attend: \n\n\nWitness the formal proclamation by city officials \n\n\nCelebrate heritage\, culture\, and community pride \n\n\nConnect with local leaders and organizations making a difference
URL:https://www.eventoslatinos.org/event/austin-city-council-2025-hispanic-heritage-month-proclamation/
LOCATION:Austin City Hall\, 301 W 2nd St.\, Austin\, TX\, 78701\, United States
ATTACH;FMTTYPE=image/jpeg:https://www.eventoslatinos.org/wp-content/uploads/2025/09/https___cdn.evbuc_.com_images_1124327533_298738857554_1_original.jpeg
END:VEVENT
END:VCALENDAR