BEGIN:VCALENDAR
VERSION:2.0
PRODID:-//Eventos Latinos - ECPv6.15.20//NONSGML v1.0//EN
CALSCALE:GREGORIAN
METHOD:PUBLISH
X-WR-CALNAME:Eventos Latinos
X-ORIGINAL-URL:https://www.eventoslatinos.org
X-WR-CALDESC:Events for Eventos Latinos
REFRESH-INTERVAL;VALUE=DURATION:PT1H
X-Robots-Tag:noindex
X-PUBLISHED-TTL:PT1H
BEGIN:VTIMEZONE
TZID:America/New_York
BEGIN:DAYLIGHT
TZOFFSETFROM:-0500
TZOFFSETTO:-0400
TZNAME:EDT
DTSTART:20240310T070000
END:DAYLIGHT
BEGIN:STANDARD
TZOFFSETFROM:-0400
TZOFFSETTO:-0500
TZNAME:EST
DTSTART:20241103T060000
END:STANDARD
BEGIN:DAYLIGHT
TZOFFSETFROM:-0500
TZOFFSETTO:-0400
TZNAME:EDT
DTSTART:20250309T070000
END:DAYLIGHT
BEGIN:STANDARD
TZOFFSETFROM:-0400
TZOFFSETTO:-0500
TZNAME:EST
DTSTART:20251102T060000
END:STANDARD
BEGIN:DAYLIGHT
TZOFFSETFROM:-0500
TZOFFSETTO:-0400
TZNAME:EDT
DTSTART:20260308T070000
END:DAYLIGHT
BEGIN:STANDARD
TZOFFSETFROM:-0400
TZOFFSETTO:-0500
TZNAME:EST
DTSTART:20261101T060000
END:STANDARD
END:VTIMEZONE
BEGIN:VEVENT
DTSTART;TZID=America/New_York:20250821T190000
DTEND;TZID=America/New_York:20250821T210000
DTSTAMP:20260425T104121
CREATED:20250820T233744Z
LAST-MODIFIED:20250827T051758Z
UID:10000001-1755802800-1755810000@www.eventoslatinos.org
SUMMARY:EL TESORO [THE TREASURE]
DESCRIPTION:The Treasure is an unsettling and lyrical drama that blurs the lines between myth and reality. Set in a decaying home where secrets fester\, it follows a gnome’s search for an elusive treasured journey that exposes buried desires\, family guilt\, and the tragic power of imagination. This timeless play invites us to question what lies beneath our dreams and what we are willing to sacrifice to unearth the truth.
URL:https://www.eventoslatinos.org/event/el-tesoro-the-treasure/2025-08-21/
LOCATION:Trinity Street Playhouse\, 901 Trinity St\, 4th Floor\, Austin\, TX\, 78701\, United States
ORGANIZER;CN="Trinity Street Players":MAILTO:reservations.tsp@gmail.com
END:VEVENT
END:VCALENDAR