BEGIN:VCALENDAR
VERSION:2.0
PRODID:-//Eventos Latinos - ECPv6.15.20//NONSGML v1.0//EN
CALSCALE:GREGORIAN
METHOD:PUBLISH
X-WR-CALNAME:Eventos Latinos
X-ORIGINAL-URL:https://www.eventoslatinos.org
X-WR-CALDESC:Events for Eventos Latinos
REFRESH-INTERVAL;VALUE=DURATION:PT1H
X-Robots-Tag:noindex
X-PUBLISHED-TTL:PT1H
BEGIN:VTIMEZONE
TZID:America/Chicago
BEGIN:DAYLIGHT
TZOFFSETFROM:-0600
TZOFFSETTO:-0500
TZNAME:CDT
DTSTART:20240310T080000
END:DAYLIGHT
BEGIN:STANDARD
TZOFFSETFROM:-0500
TZOFFSETTO:-0600
TZNAME:CST
DTSTART:20241103T070000
END:STANDARD
BEGIN:DAYLIGHT
TZOFFSETFROM:-0600
TZOFFSETTO:-0500
TZNAME:CDT
DTSTART:20250309T080000
END:DAYLIGHT
BEGIN:STANDARD
TZOFFSETFROM:-0500
TZOFFSETTO:-0600
TZNAME:CST
DTSTART:20251102T070000
END:STANDARD
BEGIN:DAYLIGHT
TZOFFSETFROM:-0600
TZOFFSETTO:-0500
TZNAME:CDT
DTSTART:20260308T080000
END:DAYLIGHT
BEGIN:STANDARD
TZOFFSETFROM:-0500
TZOFFSETTO:-0600
TZNAME:CST
DTSTART:20261101T070000
END:STANDARD
END:VTIMEZONE
BEGIN:VEVENT
DTSTART;TZID=America/Chicago:20251120T173000
DTEND;TZID=America/Chicago:20251120T193000
DTSTAMP:20260424T192056
CREATED:20251117T001438Z
LAST-MODIFIED:20251117T001648Z
UID:10001237-1763659800-1763667000@www.eventoslatinos.org
SUMMARY:Hispanic Business Alliance Mixer
DESCRIPTION:The Hispanic Business Alliance Mixer is an energizing evening gathering designed to foster meaningful connections among Hispanic entrepreneurs\, small-business owners\, and community professionals across Central Texas. Taking place on November 20\, 2025\, this after-hours event offers participants a relaxed yet purposeful environment where collaboration and opportunity intersect. Attendees can expect a blend of networking\, cultural pride\, and professional development that reflects the vibrancy of the New Braunfels business community. \nThe mixer serves as a hub for cross-industry exchange\, bringing together leaders from fields such as finance\, education\, marketing\, technology\, and local retail. Participants are encouraged to share insights\, explore potential partnerships\, and discuss strategies that strengthen Hispanic representation in the regional economy. Tables and displays from partner organizations provide information about upcoming programs\, mentorship initiatives\, and small-business resources available throughout Comal County and beyond. \nIn keeping with the spirit of inclusion\, the event welcomes both longtime residents and newcomers who want to expand their professional circles while celebrating cultural heritage. Guests will enjoy light refreshments and music while engaging in open dialogue about entrepreneurship and leadership. The atmosphere balances professionalism with the warmth characteristic of the Hispanic business community—where relationships are built through authenticity\, trust\, and shared ambition. \nThroughout the evening\, local leaders and alliance members highlight ongoing efforts to create equitable access to capital\, education\, and growth opportunities for Hispanic-owned enterprises. Short remarks acknowledge success stories and spotlight businesses that contribute to the city’s continued development. By the end of the mixer\, attendees leave with new contacts\, actionable ideas\, and a renewed sense of unity. The 2025 Hispanic Business Alliance Mixer reaffirms that collaboration\, mentorship\, and cultural pride remain powerful drivers of sustainable prosperity in New Braunfels and across Texas.
URL:https://www.eventoslatinos.org/event/hispanic-business-alliance-mixer/
LOCATION:Herbert’s\, 1440 N Walnut Ave\, New Braunfels\, TX\, 78130\, United States
ATTACH;FMTTYPE=image/jpeg:https://www.eventoslatinos.org/wp-content/uploads/2025/11/ChatGPT-Image-Nov-16-2025-06_09_53-PM.jpg
ORGANIZER;CN="Hispanic Business Alliance":MAILTO:ian@nbchamber.com
END:VEVENT
BEGIN:VEVENT
DTSTART;TZID=America/Chicago:20251120T173000
DTEND;TZID=America/Chicago:20251120T210000
DTSTAMP:20260424T192056
CREATED:20251022T231355Z
LAST-MODIFIED:20251105T172200Z
UID:10001234-1763659800-1763672400@www.eventoslatinos.org
SUMMARY:Enlace Latino 2025
DESCRIPTION:Enlace Latino 2025 is a free event created to empower\, inspire\, and motivate the Latino community in Dallas by providing practical tools for professional\, entrepreneurial\, and personal growth.Hosted at the Consulate General of Mexico in Dallas\, this unique gathering brings together leaders\, entrepreneurs\, and professionals for an evening of learning\, culture\, and meaningful connections. \nThe program features motivational talks\, personal branding sessions\, and vibrant folkloric dance performances that highlight the richness and diversity of Latin American culture. \n\nGuest Speakers\nJuan Bustos “El 100 Pies”A Colombian influencer and entrepreneur celebrated for his resilience and ability to inspire others. Born without lower limbs\, Juan has turned adversity into strength\, proving that limitations exist only in the mind. His humor and optimism have earned him a devoted following across social media\, where he promotes perseverance and positivity. \nCarolina PereiraA Venezuelan journalist\, speaker\, and communication mentor dedicated to empowering the Hispanic community in the U.S. After a successful career with Globovisión\, Carolina moved to the United States in 2015 and founded Communication with Purpose\, where she leads workshops and conferences on leadership\, communication\, and professional presence. \nRubén OvandoA personal branding and corporate image consultant\, graduate of the College of Public Image in Mexico City\, and former consul for media and image at the Consulate of Mexico in Dallas (2010–2022). Rubén has worked with organizations such as Univision\, Telemundo\, the Texas Rangers\, Red Bull FL\, and others to elevate Hispanic visibility and strengthen cross-border partnerships. \nClaudia AkelImage and communication consultant\, healthy habits coach\, and motivational speaker. With a degree in accounting and a master’s in business administration with a specialization in marketing\, Claudia combines her expertise in image\, communication\, and finance to help individuals and organizations achieve personal and professional excellence. \n\nCulture & Community\nAttendees will enjoy Latin American folkloric performances\, celebrating the vibrant heritage and cultural unity of our community. \nImportant:⚠️ Capacity is limited to 100 guests.🎫 Admission is free\, but advance registration via Eventbrite is required.
URL:https://www.eventoslatinos.org/event/enlace-latino-2025/
LOCATION:Consulate General of Mexico in Dallas\, 1210 River Bend Dr\, Dallas\, TX\, 75247\, United States
ATTACH;FMTTYPE=image/jpeg:https://www.eventoslatinos.org/wp-content/uploads/2025/10/https___cdn.evbuc_.com_images_1148194593_230117718644_1_original-1.jpeg
ORGANIZER;CN="Radio Enlace Latino":MAILTO:radioenlacelatino@gmail.com
END:VEVENT
END:VCALENDAR