BEGIN:VCALENDAR
VERSION:2.0
PRODID:-//Eventos Latinos - ECPv6.15.20//NONSGML v1.0//EN
CALSCALE:GREGORIAN
METHOD:PUBLISH
X-WR-CALNAME:Eventos Latinos
X-ORIGINAL-URL:https://www.eventoslatinos.org
X-WR-CALDESC:Events for Eventos Latinos
REFRESH-INTERVAL;VALUE=DURATION:PT1H
X-Robots-Tag:noindex
X-PUBLISHED-TTL:PT1H
BEGIN:VTIMEZONE
TZID:America/Chicago
BEGIN:DAYLIGHT
TZOFFSETFROM:-0600
TZOFFSETTO:-0500
TZNAME:CDT
DTSTART:20240310T080000
END:DAYLIGHT
BEGIN:STANDARD
TZOFFSETFROM:-0500
TZOFFSETTO:-0600
TZNAME:CST
DTSTART:20241103T070000
END:STANDARD
BEGIN:DAYLIGHT
TZOFFSETFROM:-0600
TZOFFSETTO:-0500
TZNAME:CDT
DTSTART:20250309T080000
END:DAYLIGHT
BEGIN:STANDARD
TZOFFSETFROM:-0500
TZOFFSETTO:-0600
TZNAME:CST
DTSTART:20251102T070000
END:STANDARD
BEGIN:DAYLIGHT
TZOFFSETFROM:-0600
TZOFFSETTO:-0500
TZNAME:CDT
DTSTART:20260308T080000
END:DAYLIGHT
BEGIN:STANDARD
TZOFFSETFROM:-0500
TZOFFSETTO:-0600
TZNAME:CST
DTSTART:20261101T070000
END:STANDARD
END:VTIMEZONE
BEGIN:VEVENT
DTSTART;TZID=America/Chicago:20251116T090000
DTEND;TZID=America/Chicago:20251116T200000
DTSTAMP:20260424T190129
CREATED:20251021T001234Z
LAST-MODIFIED:20251021T005034Z
UID:10000329-1763283600-1763323200@www.eventoslatinos.org
SUMMARY:Texas Renaissance Festival 2025
DESCRIPTION:The Texas Renaissance Festival (TRF) is the nation’s largest and most celebrated Renaissance-themed event\, transporting visitors back in time to the 16th century for nine magical weekends of entertainment\, artistry\, and adventure. Located on over 70 acres of wooded fairgrounds in Todd Mission\, Texas\, the festival offers an immersive experience featuring costumed performers\, live music\, artisan markets\, themed feasts\, and world-class theatrical productions. \nEach weekend from October 4 through November 30\, 2025\, TRF welcomes guests to explore its vibrant village of more than 400 shops\, stages\, and food pavilions. Visitors can enjoy jousting tournaments\, falconry demonstrations\, comedy shows\, juggling acts\, and musical performances from international talent. The festival’s signature marketplace showcases handcrafted jewelry\, leather goods\, metalwork\, pottery\, and other artisan creations that make for unique souvenirs and gifts. \nThe festival’s 2025 season features themed weekends that highlight different aspects of history and culture\, such as: \nOktoberfest Weekend – Traditional German music\, beer\, and dancing \n1001 Dreams—Fantasy creatures and fairy magic \nAll Hallows Eve—Spooky delights and costume contests \nHighland Fling—Bagpipes\, kilts\, and Scottish pride \nPirate Adventure—Seafaring fun for the whole family \nHeroes & Villains—Comic-inspired cosplay and games \nGuests can indulge in hundreds of culinary delights ranging from roasted turkey legs and Scotch eggs to mead\, ale\, and gourmet desserts. Families can also enjoy the festival’s children’s area\, rides\, and games designed to engage visitors of all ages. \nFor those seeking an extended experience\, TRF offers camping and glamping options at the nearby Fields of New Market Campground\, featuring nightly entertainment\, live music\, and themed activities under the stars. \nThe Texas Renaissance Festival has been enchanting visitors since 1974 and attracts more than half a million guests annually. Its dedication to craftsmanship\, performance\, and historical storytelling continues to make it one of Texas’s most iconic fall traditions.
URL:https://www.eventoslatinos.org/event/texas-renaissance-festival-2025/2025-11-16/
LOCATION:Texas Renaissance Festival Grounds\, 21778 Farm to Market 1774\, Todd Mission\, TX\, 77363\, United States
ATTACH;FMTTYPE=image/jpeg:https://www.eventoslatinos.org/wp-content/uploads/2025/10/TRF45-1-9976.jpg
ORGANIZER;CN="Texas Renaissance Festival%2C Inc.":MAILTO:info@texrenfest.com
END:VEVENT
BEGIN:VEVENT
DTSTART;TZID=America/Chicago:20251116T110000
DTEND;TZID=America/Chicago:20251116T230000
DTSTAMP:20260424T190129
CREATED:20251021T005513Z
LAST-MODIFIED:20251021T005514Z
UID:10001228-1763290800-1763334000@www.eventoslatinos.org
SUMMARY:Wurstfest 2025
DESCRIPTION:Wurstfest 2025 is a ten-day celebration of German culture\, music\, food\, and fun in the heart of the Texas Hill Country. Set along the banks of the Comal River in New Braunfels\, Texas\, this world-famous festival—often called “the best ten days in sausage history”—invites visitors to raise a stein and enjoy the state’s most authentic Oktoberfest-style experience. \nNow entering its 65th season\, Wurstfest combines old-world charm with Texas hospitality\, offering a lively mix of polka music\, Bavarian entertainment\, carnival rides\, and traditional German food and beer. Visitors can explore sprawling festival grounds featuring multiple music tents\, dance halls\, craft beer gardens\, and riverside seating\, all designed to create an atmosphere reminiscent of Munich’s legendary Oktoberfest. \nFestival Highlights: \nLive performances by local and international German bands playing polka\, waltz\, and folk music \nAuthentic cuisine\, including bratwurst\, schnitzel\, strudel\, and pretzels \nGerman\, Texan\, and craft beers served in souvenir steins \nKinderhalle children’s area with family-friendly activities \nBavarian marketplace featuring artisan goods\, souvenirs\, and collectibles \nCarnival midway\, games\, and traditional parades \nEvery year\, thousands of visitors—many dressed in lederhosen and dirndls—descend on New Braunfels to experience this vibrant cultural tradition. The festival’s riverside location offers scenic views\, cool breezes\, and easy access to the city’s historic downtown district\, making it a favorite destination for locals and travelers alike. \nWurstfest’s enduring popularity reflects New Braunfels’ deep German roots and its commitment to preserving cultural heritage while celebrating community and fellowship. What began in 1961 as a one-day sausage festival has grown into a beloved international attraction that honors tradition\, music\, and\, of course\, the wurst.
URL:https://www.eventoslatinos.org/event/wurstfest-2025-3/2025-11-16/
LOCATION:Wurstfest Grounds\, 120 Landa St.\, New Braunfels\, TX\, 78130\, United States
ATTACH;FMTTYPE=image/jpeg:https://www.eventoslatinos.org/wp-content/uploads/2025/10/Wurstfest-New-Baunfels-Texas.jpg
ORGANIZER;CN="Wurstfest Association of New Braunfels":MAILTO:info@wurstfest.com
END:VEVENT
END:VCALENDAR