BEGIN:VCALENDAR
VERSION:2.0
PRODID:-//Eventos Latinos - ECPv6.15.20//NONSGML v1.0//EN
CALSCALE:GREGORIAN
METHOD:PUBLISH
X-ORIGINAL-URL:https://www.eventoslatinos.org
X-WR-CALDESC:Events for Eventos Latinos
REFRESH-INTERVAL;VALUE=DURATION:PT1H
X-Robots-Tag:noindex
X-PUBLISHED-TTL:PT1H
BEGIN:VTIMEZONE
TZID:America/Chicago
BEGIN:DAYLIGHT
TZOFFSETFROM:-0600
TZOFFSETTO:-0500
TZNAME:CDT
DTSTART:20240310T080000
END:DAYLIGHT
BEGIN:STANDARD
TZOFFSETFROM:-0500
TZOFFSETTO:-0600
TZNAME:CST
DTSTART:20241103T070000
END:STANDARD
BEGIN:DAYLIGHT
TZOFFSETFROM:-0600
TZOFFSETTO:-0500
TZNAME:CDT
DTSTART:20250309T080000
END:DAYLIGHT
BEGIN:STANDARD
TZOFFSETFROM:-0500
TZOFFSETTO:-0600
TZNAME:CST
DTSTART:20251102T070000
END:STANDARD
BEGIN:DAYLIGHT
TZOFFSETFROM:-0600
TZOFFSETTO:-0500
TZNAME:CDT
DTSTART:20260308T080000
END:DAYLIGHT
BEGIN:STANDARD
TZOFFSETFROM:-0500
TZOFFSETTO:-0600
TZNAME:CST
DTSTART:20261101T070000
END:STANDARD
END:VTIMEZONE
BEGIN:VTIMEZONE
TZID:UTC
BEGIN:STANDARD
TZOFFSETFROM:+0000
TZOFFSETTO:+0000
TZNAME:UTC
DTSTART:20240101T000000
END:STANDARD
END:VTIMEZONE
BEGIN:VEVENT
DTSTART;TZID=America/Chicago:20251108T090000
DTEND;TZID=America/Chicago:20251108T200000
DTSTAMP:20260424T192116
CREATED:20251021T001234Z
LAST-MODIFIED:20251021T005034Z
UID:10000326-1762592400-1762632000@www.eventoslatinos.org
SUMMARY:Texas Renaissance Festival 2025
DESCRIPTION:The Texas Renaissance Festival (TRF) is the nation’s largest and most celebrated Renaissance-themed event\, transporting visitors back in time to the 16th century for nine magical weekends of entertainment\, artistry\, and adventure. Located on over 70 acres of wooded fairgrounds in Todd Mission\, Texas\, the festival offers an immersive experience featuring costumed performers\, live music\, artisan markets\, themed feasts\, and world-class theatrical productions. \nEach weekend from October 4 through November 30\, 2025\, TRF welcomes guests to explore its vibrant village of more than 400 shops\, stages\, and food pavilions. Visitors can enjoy jousting tournaments\, falconry demonstrations\, comedy shows\, juggling acts\, and musical performances from international talent. The festival’s signature marketplace showcases handcrafted jewelry\, leather goods\, metalwork\, pottery\, and other artisan creations that make for unique souvenirs and gifts. \nThe festival’s 2025 season features themed weekends that highlight different aspects of history and culture\, such as: \nOktoberfest Weekend – Traditional German music\, beer\, and dancing \n1001 Dreams—Fantasy creatures and fairy magic \nAll Hallows Eve—Spooky delights and costume contests \nHighland Fling—Bagpipes\, kilts\, and Scottish pride \nPirate Adventure—Seafaring fun for the whole family \nHeroes & Villains—Comic-inspired cosplay and games \nGuests can indulge in hundreds of culinary delights ranging from roasted turkey legs and Scotch eggs to mead\, ale\, and gourmet desserts. Families can also enjoy the festival’s children’s area\, rides\, and games designed to engage visitors of all ages. \nFor those seeking an extended experience\, TRF offers camping and glamping options at the nearby Fields of New Market Campground\, featuring nightly entertainment\, live music\, and themed activities under the stars. \nThe Texas Renaissance Festival has been enchanting visitors since 1974 and attracts more than half a million guests annually. Its dedication to craftsmanship\, performance\, and historical storytelling continues to make it one of Texas’s most iconic fall traditions.
URL:https://www.eventoslatinos.org/event/texas-renaissance-festival-2025/2025-11-08/
LOCATION:Texas Renaissance Festival Grounds\, 21778 Farm to Market 1774\, Todd Mission\, TX\, 77363\, United States
ATTACH;FMTTYPE=image/jpeg:https://www.eventoslatinos.org/wp-content/uploads/2025/10/TRF45-1-9976.jpg
ORGANIZER;CN="Texas Renaissance Festival%2C Inc.":MAILTO:info@texrenfest.com
END:VEVENT
BEGIN:VEVENT
DTSTART;TZID=UTC:20251108T100000
DTEND;TZID=UTC:20251108T140000
DTSTAMP:20260424T192116
CREATED:20250821T001530Z
LAST-MODIFIED:20250827T051035Z
UID:10000015-1762596000-1762610400@www.eventoslatinos.org
SUMMARY:Cafe\, Cultura\, y Amistad
DESCRIPTION:OPEN HOUSE every Saturday when the center is open! Tourists and visitors enjoy free Puerto Rican coffee\, conversation & displays of traditional music\, dance\, and cultural arts programs. Bendicion\, community elders! We are especially excited to see you! Open house includes a free tour of the center and a souvenir photo with company and students for social media!
URL:https://www.eventoslatinos.org/event/cafe-cultura-y-amistad/2025-11-08/
LOCATION:Puerto Rican Cultural Center\, 701 Tillery Street #13\, Austin\, TX\, 78702\, United States
ATTACH;FMTTYPE=image/jpeg:https://www.eventoslatinos.org/wp-content/uploads/2025/08/GrandOpenHouse2006.entrance.jpg
ORGANIZER;CN="Puerto Rican Cultural Center":MAILTO:dance@prfdance.org
END:VEVENT
BEGIN:VEVENT
DTSTART;TZID=America/Chicago:20251108T110000
DTEND;TZID=America/Chicago:20251108T230000
DTSTAMP:20260424T192116
CREATED:20251021T005513Z
LAST-MODIFIED:20251021T005514Z
UID:10001220-1762599600-1762642800@www.eventoslatinos.org
SUMMARY:Wurstfest 2025
DESCRIPTION:Wurstfest 2025 is a ten-day celebration of German culture\, music\, food\, and fun in the heart of the Texas Hill Country. Set along the banks of the Comal River in New Braunfels\, Texas\, this world-famous festival—often called “the best ten days in sausage history”—invites visitors to raise a stein and enjoy the state’s most authentic Oktoberfest-style experience. \nNow entering its 65th season\, Wurstfest combines old-world charm with Texas hospitality\, offering a lively mix of polka music\, Bavarian entertainment\, carnival rides\, and traditional German food and beer. Visitors can explore sprawling festival grounds featuring multiple music tents\, dance halls\, craft beer gardens\, and riverside seating\, all designed to create an atmosphere reminiscent of Munich’s legendary Oktoberfest. \nFestival Highlights: \nLive performances by local and international German bands playing polka\, waltz\, and folk music \nAuthentic cuisine\, including bratwurst\, schnitzel\, strudel\, and pretzels \nGerman\, Texan\, and craft beers served in souvenir steins \nKinderhalle children’s area with family-friendly activities \nBavarian marketplace featuring artisan goods\, souvenirs\, and collectibles \nCarnival midway\, games\, and traditional parades \nEvery year\, thousands of visitors—many dressed in lederhosen and dirndls—descend on New Braunfels to experience this vibrant cultural tradition. The festival’s riverside location offers scenic views\, cool breezes\, and easy access to the city’s historic downtown district\, making it a favorite destination for locals and travelers alike. \nWurstfest’s enduring popularity reflects New Braunfels’ deep German roots and its commitment to preserving cultural heritage while celebrating community and fellowship. What began in 1961 as a one-day sausage festival has grown into a beloved international attraction that honors tradition\, music\, and\, of course\, the wurst.
URL:https://www.eventoslatinos.org/event/wurstfest-2025-3/2025-11-08/
LOCATION:Wurstfest Grounds\, 120 Landa St.\, New Braunfels\, TX\, 78130\, United States
ATTACH;FMTTYPE=image/jpeg:https://www.eventoslatinos.org/wp-content/uploads/2025/10/Wurstfest-New-Baunfels-Texas.jpg
ORGANIZER;CN="Wurstfest Association of New Braunfels":MAILTO:info@wurstfest.com
END:VEVENT
BEGIN:VEVENT
DTSTART;TZID=America/Chicago:20251108T120000
DTEND;TZID=America/Chicago:20251108T220000
DTSTAMP:20260424T192116
CREATED:20251020T210937Z
LAST-MODIFIED:20251020T211052Z
UID:10000314-1762603200-1762639200@www.eventoslatinos.org
SUMMARY:Brownsville Latin Music Festival 2025
DESCRIPTION:The Brownsville Latin Music Festival 2025 celebrates the vibrant rhythms\, colors\, and cultural heritage of Latin America through a full day of live music\, dance\, food\, and art in the heart of South Texas. Hosted by the Brownsville Society for the Performing Arts (BSPA)\, this signature annual event brings together local and international artists\, creating an unforgettable cultural experience that highlights Brownsville’s role as a crossroads of music and tradition along the U.S.–Mexico border. \nNow in its 28th year\, the festival transforms Dean Porter Park into a dynamic outdoor venue filled with the sounds of salsa\, cumbia\, mariachi\, reggaetón\, bachata\, and Latin jazz. The 2025 lineup will feature acclaimed performers from across Texas\, Mexico\, Central America\, and the Caribbean—alongside emerging regional talent from the Rio Grande Valley’s thriving music scene. \nAttendees can explore multiple stages of live performances throughout the day\, as well as interactive dance workshops\, artisan markets\, and food vendors offering authentic Latin American cuisine. Families are invited to enjoy cultural exhibits\, children’s activities\, and art installations celebrating the diversity and unity of Latin culture. \nFestival highlights include: \nMain Stage concerts with national and international headliners \nFolklórico and salsa dance performances \nLatin art exhibitions and craft vendors \nFood courts showcasing flavors from across the Americas \nEvening finale concert and fireworks display \nThe Brownsville Latin Music Festival embodies the city’s cultural vitality and commitment to artistic expression. It draws thousands of visitors from Texas and northern Mexico each year\, strengthening cross-border cultural ties and promoting tourism in the Rio Grande Valley.
URL:https://www.eventoslatinos.org/event/brownsville-latin-music-festival-2025/
LOCATION:Dean Porter Park\, Dean Porter Park Dr\, Brownsville\, TX\, 78520\, United States
ATTACH;FMTTYPE=image/jpeg:https://www.eventoslatinos.org/wp-content/uploads/2025/10/https___cdn.evbuc_.com_images_1102919903_832886768623_1_original.jpeg
ORGANIZER;CN="Brownsville Society for the Performing Arts":MAILTO:info@brosoperformingarts.org
END:VEVENT
BEGIN:VEVENT
DTSTART;TZID=America/Chicago:20251108T180000
DTEND;TZID=America/Chicago:20251108T230000
DTSTAMP:20260424T192116
CREATED:20250911T145744Z
LAST-MODIFIED:20250911T152441Z
UID:10000280-1762624800-1762642800@www.eventoslatinos.org
SUMMARY:2025 Annual Awards Gala
DESCRIPTION:Celebrate excellence at the 2025 Annual Awards Gala—a vibrant black-tie evening recognizing the achievements of entrepreneurs\, business leaders\, and rising stars across Houston’s Hispanic business community. This is not a sit-down dinner; instead\, enjoy a sophisticated atmosphere with multiple food stations\, live music for dancing\, and opportunities to mix and mingle with CEOs\, influencers\, and emerging leaders.
URL:https://www.eventoslatinos.org/event/2025-annual-awards-gala/
LOCATION:Thompson Houston\, 1717 Allen Parkway\, Houston\, TX\, 77019\, United States
ATTACH;FMTTYPE=image/jpeg:https://www.eventoslatinos.org/wp-content/uploads/2025/09/ChatGPT-Image-Sep-11-2025-08_56_59-AM.jpg
ORGANIZER;CN="Houston Hispanic Chamber of Commerce":MAILTO:info@houstonhispanicchamber.com
END:VEVENT
END:VCALENDAR