BEGIN:VCALENDAR
VERSION:2.0
PRODID:-//Eventos Latinos - ECPv6.15.20//NONSGML v1.0//EN
CALSCALE:GREGORIAN
METHOD:PUBLISH
X-WR-CALNAME:Eventos Latinos
X-ORIGINAL-URL:https://www.eventoslatinos.org
X-WR-CALDESC:Events for Eventos Latinos
REFRESH-INTERVAL;VALUE=DURATION:PT1H
X-Robots-Tag:noindex
X-PUBLISHED-TTL:PT1H
BEGIN:VTIMEZONE
TZID:America/Chicago
BEGIN:DAYLIGHT
TZOFFSETFROM:-0600
TZOFFSETTO:-0500
TZNAME:CDT
DTSTART:20240310T080000
END:DAYLIGHT
BEGIN:STANDARD
TZOFFSETFROM:-0500
TZOFFSETTO:-0600
TZNAME:CST
DTSTART:20241103T070000
END:STANDARD
BEGIN:DAYLIGHT
TZOFFSETFROM:-0600
TZOFFSETTO:-0500
TZNAME:CDT
DTSTART:20250309T080000
END:DAYLIGHT
BEGIN:STANDARD
TZOFFSETFROM:-0500
TZOFFSETTO:-0600
TZNAME:CST
DTSTART:20251102T070000
END:STANDARD
BEGIN:DAYLIGHT
TZOFFSETFROM:-0600
TZOFFSETTO:-0500
TZNAME:CDT
DTSTART:20260308T080000
END:DAYLIGHT
BEGIN:STANDARD
TZOFFSETFROM:-0500
TZOFFSETTO:-0600
TZNAME:CST
DTSTART:20261101T070000
END:STANDARD
END:VTIMEZONE
BEGIN:VEVENT
DTSTART;TZID=America/Chicago:20251106T090000
DTEND;TZID=America/Chicago:20251106T153000
DTSTAMP:20260424T192105
CREATED:20251021T163821Z
LAST-MODIFIED:20251021T164720Z
UID:10001229-1762419600-1762443000@www.eventoslatinos.org
SUMMARY:Latino Health Summit & Cultural Festival 2025
DESCRIPTION:The Latino Health Summit & Cultural Festival 2025 is a two-day conference and community celebration dedicated to advancing health equity\, education\, and cultural pride across South Texas. Presented by Latinx Voces\, this multidisciplinary event unites public health experts\, community leaders\, educators\, and families in the Brownsville Downtown District for an inspiring blend of professional sessions\, wellness activities\, and cultural performances. \nThe 2025 theme\, “Healthy Communities\, Vibrant Futures\,” emphasizes holistic well-being and access to care for Latino and underserved populations throughout the Rio Grande Valley. The summit’s daytime programming features keynote speakers\, panel discussions\, and workshops focusing on health access\, nutrition\, mental wellness\, preventive care\, and the social determinants of health. \nParticipants will have the opportunity to engage directly with healthcare professionals\, policymakers\, and nonprofit leaders who are transforming the landscape of Latino health through education\, advocacy\, and innovation. Concurrently\, the Cultural Festival component celebrates the diversity and resilience of the community with art exhibits\, live music\, traditional dance\, and a local wellness market highlighting healthy food vendors and regional artisans. \nSummit & Festival Highlights: \nHealth & Wellness Pavilion with free screenings and informational resources \nEducational panels on mental health\, women’s health\, and family wellness \nCultural stage featuring live Latin music and folklórico performances \nArt installations promoting social awareness and cultural identity \nYouth leadership sessions and fitness demonstrations \nFamily zone with children’s activities and interactive learning booths \nThe Latino Health Summit & Cultural Festival represents a dynamic collaboration between healthcare providers\, cultural institutions\, and civic organizations working together to build healthier\, more empowered communities. It bridges the gap between medical insight and cultural understanding\, making wellness accessible\, relevant\, and community-centered.
URL:https://www.eventoslatinos.org/event/latino-health-summit-cultural-festival-2025/
LOCATION:eBridge Center for Business & Commercialization\, 1304 E. Adams St.\, Brownsville\, TX\, 78520\, United States
ATTACH;FMTTYPE=image/jpeg:https://www.eventoslatinos.org/wp-content/uploads/2025/10/images-12.jpeg
ORGANIZER;CN="Latinx Voces":MAILTO:info@latinxvoces.org
END:VEVENT
BEGIN:VEVENT
DTSTART;TZID=America/Chicago:20251106T090000
DTEND;TZID=America/Chicago:20251106T160000
DTSTAMP:20260424T192105
CREATED:20251020T204621Z
LAST-MODIFIED:20251020T204621Z
UID:10000313-1762419600-1762444800@www.eventoslatinos.org
SUMMARY:Boots to Business Reboot
DESCRIPTION:The SBA Houston: #NVSBW25 Boots to Business Reboot is a special one-day entrepreneurship training program designed for veterans\, active-duty service members\, National Guard and Reserve members\, and military spouses interested in launching or growing a business. Presented by the U.S. Small Business Administration (SBA) during National Veterans Small Business Week 2025 (#NVSBW25)\, this intensive workshop provides participants with the foundational knowledge and resources needed to transition from military service to successful business ownership. \nHosted at the University of Houston Small Business Development Center (UH SBDC)\, the event features a full-day curriculum covering the fundamentals of small-business ownership\, financing\, marketing\, and strategic planning. Experienced business advisors\, veteran entrepreneurs\, and SBA resource partners—including SCORE Houston\, the Veterans Business Outreach Center (VBOC)\, and the Texas Gulf Coast SBDC Network—will guide attendees through hands-on exercises and actionable business planning tools. \nProgram topics include: \nEvaluating business ideas and understanding market opportunities \nBasics of business planning and startup strategy \nFunding options and government contracting for veteran-owned businesses \nLocal and national resources available through the SBA and its partners \nParticipants will also learn how to enroll in follow-on programs such as the Boots to Business Revenue Readiness course for continued training and mentorship. \nThe Boots to Business Reboot program supports the SBA’s ongoing mission to empower veterans and their families to become successful entrepreneurs. Through events like this\, the SBA honors the leadership\, discipline\, and problem-solving skills veterans bring to the business world—helping them transform those strengths into thriving enterprises.
URL:https://www.eventoslatinos.org/event/boots-to-business-reboot/
LOCATION:UH Small Business Development Center\, 1455 West Loop South\, Suite 900\, Houston\, TX\, 77027\, United States
ATTACH;FMTTYPE=image/jpeg:https://www.eventoslatinos.org/wp-content/uploads/2025/10/ChatGPT-Image-Oct-20-2025-02_13_49-PM.jpg
ORGANIZER;CN="U.S. Small Business Administration (Houston District Office)":MAILTO:houston@sba.gov
END:VEVENT
END:VCALENDAR