BEGIN:VCALENDAR
VERSION:2.0
PRODID:-//Eventos Latinos - ECPv6.15.20//NONSGML v1.0//EN
CALSCALE:GREGORIAN
METHOD:PUBLISH
X-ORIGINAL-URL:https://www.eventoslatinos.org
X-WR-CALDESC:Events for Eventos Latinos
REFRESH-INTERVAL;VALUE=DURATION:PT1H
X-Robots-Tag:noindex
X-PUBLISHED-TTL:PT1H
BEGIN:VTIMEZONE
TZID:America/Chicago
BEGIN:DAYLIGHT
TZOFFSETFROM:-0600
TZOFFSETTO:-0500
TZNAME:CDT
DTSTART:20240310T080000
END:DAYLIGHT
BEGIN:STANDARD
TZOFFSETFROM:-0500
TZOFFSETTO:-0600
TZNAME:CST
DTSTART:20241103T070000
END:STANDARD
BEGIN:DAYLIGHT
TZOFFSETFROM:-0600
TZOFFSETTO:-0500
TZNAME:CDT
DTSTART:20250309T080000
END:DAYLIGHT
BEGIN:STANDARD
TZOFFSETFROM:-0500
TZOFFSETTO:-0600
TZNAME:CST
DTSTART:20251102T070000
END:STANDARD
BEGIN:DAYLIGHT
TZOFFSETFROM:-0600
TZOFFSETTO:-0500
TZNAME:CDT
DTSTART:20260308T080000
END:DAYLIGHT
BEGIN:STANDARD
TZOFFSETFROM:-0500
TZOFFSETTO:-0600
TZNAME:CST
DTSTART:20261101T070000
END:STANDARD
END:VTIMEZONE
BEGIN:VEVENT
DTSTART;VALUE=DATE:20251105
DTEND;VALUE=DATE:20251106
DTSTAMP:20260424T175859
CREATED:20251020T171618Z
LAST-MODIFIED:20251020T171618Z
UID:10000310-1762300800-1762387199@www.eventoslatinos.org
SUMMARY:Manual for Success Men’s Conference & Expo 2025
DESCRIPTION:The Manual for Success Men’s Conference & Expo 2025 is one of South Texas’s premier leadership events dedicated to inspiring\, empowering\, and equipping men to achieve personal and professional growth. Hosted by the Rio Grande Valley Hispanic Chamber of Commerce (RGVHCC)\, this annual gathering brings together business professionals\, community leaders\, educators\, and entrepreneurs from across the region for a full day of learning\, networking\, and collaboration. \nNow in its highly anticipated 2025 edition\, the conference is built around the theme “Redefining Leadership in a Changing World.” Participants can expect an engaging lineup of keynote speakers\, panel discussions\, and interactive sessions that address the unique challenges and opportunities faced by men in business\, leadership\, health\, and family life. \nCore topics include: \nLeadership and communication for modern professionals \nStrategies for work-life balance and mental wellness \nFinancial literacy\, investment\, and business growth \nCommunity mentorship and social responsibility \nHealth awareness and lifestyle improvement for men \nIn addition to its powerful speaker sessions\, the Men’s Expo component features local and regional exhibitors showcasing services and products that promote professional development\, wellness\, and entrepreneurship. The event provides an ideal platform for small-business owners to connect with potential clients\, investors\, and mentors while expanding their visibility within the Rio Grande Valley business ecosystem. \nAttendees will also have access to networking luncheons\, one-on-one mentoring opportunities\, and breakout sessions tailored for different career stages—from emerging leaders to seasoned executives. \nThe Manual for Success Men’s Conference & Expo represents the RGV Hispanic Chamber’s ongoing mission to foster leadership and success across the Hispanic community by promoting education\, empowerment\, and opportunity. It aligns with the Chamber’s broader commitment to advancing minority-owned businesses\, supporting equitable growth\, and cultivating a new generation of regional leaders.
URL:https://www.eventoslatinos.org/event/manual-for-success-mens-conference-expo-2025/
LOCATION:Memorial Event Center\, 208 E. Canton Rd\, Edinburg\, TX\, 78539\, United States
ATTACH;FMTTYPE=image/jpeg:https://www.eventoslatinos.org/wp-content/uploads/2025/10/ChatGPT-Image-Oct-20-2025-09_51_59-AM.jpg
ORGANIZER;CN="Rio Grande Valley Hispanic Chamber of Commerce":MAILTO:info@rgvhcc.org
END:VEVENT
BEGIN:VEVENT
DTSTART;TZID=America/Chicago:20251105T100000
DTEND;TZID=America/Chicago:20251105T170000
DTSTAMP:20260424T175859
CREATED:20251020T194459Z
LAST-MODIFIED:20251020T194459Z
UID:10000312-1762336800-1762362000@www.eventoslatinos.org
SUMMARY:Houston Small Business Expo 2025
DESCRIPTION:Description:The Houston Small Business Expo 2025 is the city’s largest annual business-to-business trade show\, conference\, and networking event for entrepreneurs\, startups\, and small-business professionals. Hosted by The Small Business Expo Group\, this high-energy\, one-day event brings together thousands of business owners and decision-makers from across the Greater Houston area for a full schedule of learning\, collaboration\, and growth opportunities. \nAttendees will discover practical strategies to start\, manage\, and expand their businesses through workshops led by leading experts in marketing\, finance\, sales\, technology\, and operations. Exhibitors from diverse industries will showcase innovative products and services that support small-business success—from digital marketing and software solutions to funding\, insurance\, and HR support. \nEvent highlights include: \nDozens of educational seminars and panel discussions led by industry experts \nNetworking sessions and speed-meeting zones for professionals and investors \nExhibitor booths featuring tools and services designed for business growth \nLive product demos\, giveaways\, and startup mentoring opportunities \nSpecial focus sessions for minority- and women-owned enterprises \nThe Houston Small Business Expo 2025 serves as a dynamic platform for business owners to connect with local resources\, forge new partnerships\, and access the insights needed to compete in a rapidly evolving marketplace. Whether you are an entrepreneur looking to launch a new venture\, an established business owner exploring growth strategies\, or a corporate professional seeking B2B partnerships\, the Expo offers a wealth of opportunities to learn\, engage\, and expand your reach.
URL:https://www.eventoslatinos.org/event/houston-small-business-expo-2025/
LOCATION:NRG Center\, NRG Park\, 1 Fannin St\, Houston\, TX\, 77054\, United States
ATTACH;FMTTYPE=image/jpeg:https://www.eventoslatinos.org/wp-content/uploads/2025/10/ChatGPT-Image-Oct-20-2025-01_40_52-PM.jpg
ORGANIZER;CN="The Small Business Expo Group":MAILTO:info@theshowproducers.com
END:VEVENT
BEGIN:VEVENT
DTSTART;TZID=America/Chicago:20251105T113000
DTEND;TZID=America/Chicago:20251105T130000
DTSTAMP:20260424T175859
CREATED:20251020T174006Z
LAST-MODIFIED:20251020T174006Z
UID:10000311-1762342200-1762347600@www.eventoslatinos.org
SUMMARY:Conexiones Hispanic Business Luncheon
DESCRIPTION:The Conexiones Hispanic Business Luncheon is a community-focused professional gathering that celebrates the leadership\, innovation\, and economic contributions of Hispanic entrepreneurs in Terrell and the surrounding North Texas region. Organized by the Terrell Chamber of Commerce\, this luncheon provides a welcoming environment for networking\, professional development\, and the exchange of ideas that strengthen local business relationships. \nTaking place on Wednesday\, November 5\, 2025\, from 11:30 AM to 1:00 PM\, the luncheon features guest speakers from the business community\, local government\, and partner organizations who will share practical insights on economic opportunity\, small business growth\, and community collaboration. \nParticipants can expect: \nNetworking opportunities with fellow business owners and civic leaders \nInsights into Chamber initiatives and regional economic development projects \nUpdates on programs that support small and minority-owned businesses \nLunch service provided by a local restaurant partner \nThe Conexiones Hispanic Business Luncheon reflects the Terrell Chamber’s ongoing mission to foster inclusivity and build stronger ties within the region’s growing Hispanic business community. The event encourages open dialogue\, partnership\, and shared progress among professionals who are driving economic growth in North Texas.
URL:https://www.eventoslatinos.org/event/conexiones-hispanic-business-luncheon/
LOCATION:Terrell Chamber of Commerce\, 1314 W. Moore Ave\, Terrell\, TX\, 75160\, United States
ATTACH;FMTTYPE=image/jpeg:https://www.eventoslatinos.org/wp-content/uploads/2025/10/ChatGPT-Image-Oct-20-2025-11_38_09-AM.jpg
ORGANIZER;CN="Terrell Chamber of Commerce":MAILTO:info@terrelltexas.com
END:VEVENT
END:VCALENDAR