BEGIN:VCALENDAR
VERSION:2.0
PRODID:-//Eventos Latinos - ECPv6.15.20//NONSGML v1.0//EN
CALSCALE:GREGORIAN
METHOD:PUBLISH
X-WR-CALNAME:Eventos Latinos
X-ORIGINAL-URL:https://www.eventoslatinos.org
X-WR-CALDESC:Events for Eventos Latinos
REFRESH-INTERVAL;VALUE=DURATION:PT1H
X-Robots-Tag:noindex
X-PUBLISHED-TTL:PT1H
BEGIN:VTIMEZONE
TZID:America/Chicago
BEGIN:DAYLIGHT
TZOFFSETFROM:-0600
TZOFFSETTO:-0500
TZNAME:CDT
DTSTART:20240310T080000
END:DAYLIGHT
BEGIN:STANDARD
TZOFFSETFROM:-0500
TZOFFSETTO:-0600
TZNAME:CST
DTSTART:20241103T070000
END:STANDARD
BEGIN:DAYLIGHT
TZOFFSETFROM:-0600
TZOFFSETTO:-0500
TZNAME:CDT
DTSTART:20250309T080000
END:DAYLIGHT
BEGIN:STANDARD
TZOFFSETFROM:-0500
TZOFFSETTO:-0600
TZNAME:CST
DTSTART:20251102T070000
END:STANDARD
BEGIN:DAYLIGHT
TZOFFSETFROM:-0600
TZOFFSETTO:-0500
TZNAME:CDT
DTSTART:20260308T080000
END:DAYLIGHT
BEGIN:STANDARD
TZOFFSETFROM:-0500
TZOFFSETTO:-0600
TZNAME:CST
DTSTART:20261101T070000
END:STANDARD
END:VTIMEZONE
BEGIN:VTIMEZONE
TZID:UTC
BEGIN:STANDARD
TZOFFSETFROM:+0000
TZOFFSETTO:+0000
TZNAME:UTC
DTSTART:20240101T000000
END:STANDARD
END:VTIMEZONE
BEGIN:VEVENT
DTSTART;TZID=America/Chicago:20251101T090000
DTEND;TZID=America/Chicago:20251101T200000
DTSTAMP:20260424T192059
CREATED:20251021T001234Z
LAST-MODIFIED:20251021T005034Z
UID:10000324-1761987600-1762027200@www.eventoslatinos.org
SUMMARY:Texas Renaissance Festival 2025
DESCRIPTION:The Texas Renaissance Festival (TRF) is the nation’s largest and most celebrated Renaissance-themed event\, transporting visitors back in time to the 16th century for nine magical weekends of entertainment\, artistry\, and adventure. Located on over 70 acres of wooded fairgrounds in Todd Mission\, Texas\, the festival offers an immersive experience featuring costumed performers\, live music\, artisan markets\, themed feasts\, and world-class theatrical productions. \nEach weekend from October 4 through November 30\, 2025\, TRF welcomes guests to explore its vibrant village of more than 400 shops\, stages\, and food pavilions. Visitors can enjoy jousting tournaments\, falconry demonstrations\, comedy shows\, juggling acts\, and musical performances from international talent. The festival’s signature marketplace showcases handcrafted jewelry\, leather goods\, metalwork\, pottery\, and other artisan creations that make for unique souvenirs and gifts. \nThe festival’s 2025 season features themed weekends that highlight different aspects of history and culture\, such as: \nOktoberfest Weekend – Traditional German music\, beer\, and dancing \n1001 Dreams—Fantasy creatures and fairy magic \nAll Hallows Eve—Spooky delights and costume contests \nHighland Fling—Bagpipes\, kilts\, and Scottish pride \nPirate Adventure—Seafaring fun for the whole family \nHeroes & Villains—Comic-inspired cosplay and games \nGuests can indulge in hundreds of culinary delights ranging from roasted turkey legs and Scotch eggs to mead\, ale\, and gourmet desserts. Families can also enjoy the festival’s children’s area\, rides\, and games designed to engage visitors of all ages. \nFor those seeking an extended experience\, TRF offers camping and glamping options at the nearby Fields of New Market Campground\, featuring nightly entertainment\, live music\, and themed activities under the stars. \nThe Texas Renaissance Festival has been enchanting visitors since 1974 and attracts more than half a million guests annually. Its dedication to craftsmanship\, performance\, and historical storytelling continues to make it one of Texas’s most iconic fall traditions.
URL:https://www.eventoslatinos.org/event/texas-renaissance-festival-2025/2025-11-01/
LOCATION:Texas Renaissance Festival Grounds\, 21778 Farm to Market 1774\, Todd Mission\, TX\, 77363\, United States
ATTACH;FMTTYPE=image/jpeg:https://www.eventoslatinos.org/wp-content/uploads/2025/10/TRF45-1-9976.jpg
ORGANIZER;CN="Texas Renaissance Festival%2C Inc.":MAILTO:info@texrenfest.com
END:VEVENT
BEGIN:VEVENT
DTSTART;TZID=UTC:20251101T100000
DTEND;TZID=UTC:20251101T140000
DTSTAMP:20260424T192059
CREATED:20250821T001530Z
LAST-MODIFIED:20250827T051035Z
UID:10000014-1761991200-1762005600@www.eventoslatinos.org
SUMMARY:Cafe\, Cultura\, y Amistad
DESCRIPTION:OPEN HOUSE every Saturday when the center is open! Tourists and visitors enjoy free Puerto Rican coffee\, conversation & displays of traditional music\, dance\, and cultural arts programs. Bendicion\, community elders! We are especially excited to see you! Open house includes a free tour of the center and a souvenir photo with company and students for social media!
URL:https://www.eventoslatinos.org/event/cafe-cultura-y-amistad/2025-11-01/
LOCATION:Puerto Rican Cultural Center\, 701 Tillery Street #13\, Austin\, TX\, 78702\, United States
ATTACH;FMTTYPE=image/jpeg:https://www.eventoslatinos.org/wp-content/uploads/2025/08/GrandOpenHouse2006.entrance.jpg
ORGANIZER;CN="Puerto Rican Cultural Center":MAILTO:dance@prfdance.org
END:VEVENT
BEGIN:VEVENT
DTSTART;TZID=America/Chicago:20251101T110000
DTEND;TZID=America/Chicago:20251101T160000
DTSTAMP:20260424T192059
CREATED:20251008T174117Z
LAST-MODIFIED:20251008T175241Z
UID:10000296-1761994800-1762012800@www.eventoslatinos.org
SUMMARY:Día de los Muertos Festival 2025 — Latino Cultural Center (Dallas)
DESCRIPTION:Join us for a vibrant Día de los Muertos Festival at the Latino Cultural Center\, as Dallas honors its roots\, community\, and beloved departed in a day full of art\, ritual\, music\, and remembrance. \nFrom 11:00 a.m. to 4:00 p.m.\, the festival features: \nA community altar (ofrenda) display where attendees can share photos and mementos in memory of loved ones \nLive performances showcasing music\, dance\, spoken word\, and cultural storytelling \nHands-on workshops\, face painting\, and creative activities for families and children \nArtisan mercado with crafts\, traditional goods\, and Día de los Muertos-themed art \nFood and refreshments offering flavors inspired by Mexican and Latinx traditions \nFree and open to the public—bring your family\, your memories\, and your spirit of celebration. \nLet’s come together at LCC Dallas for a day of honoring\, connecting\, and creating—a living tribute to life\, legacy\, and culture.
URL:https://www.eventoslatinos.org/event/dia-de-los-muertos-festival-2025-latino-cultural-center-dallas/
LOCATION:Latino Cultural Center\, 2600 Live Oak Street\, Dallas\, TX\, 75204\, United States
ATTACH;FMTTYPE=image/jpeg:https://www.eventoslatinos.org/wp-content/uploads/2025/10/ChatGPT-Image-Oct-8-2025-11_40_30-AM.jpg
ORGANIZER;CN="Latino Cultural Center (LCC Dallas)":MAILTO:lcc@dallas.gov
END:VEVENT
BEGIN:VEVENT
DTSTART;TZID=America/Chicago:20251101T140000
DTEND;TZID=America/Chicago:20251101T180000
DTSTAMP:20260424T192059
CREATED:20251008T164450Z
LAST-MODIFIED:20251008T165506Z
UID:10000294-1762005600-1762020000@www.eventoslatinos.org
SUMMARY:Day of the Dead Festival 2025
DESCRIPTION:Join the Emma S. Barrientos Mexican American Cultural Center (ESB-MACC) for its 18th Annual Day of the Dead Festival\, a free\, family-friendly celebration that honors ancestors and brings the community together in remembrance. \nFrom 2 p.m. to 6 p.m.\, the festival offers: \nA collective outdoor ofrenda (altar) where attendees may contribute photos\, notes\, and mementos in memory of loved ones \nArt installations and curated altar displays that explore themes of heritage\, memory\, life\, and transience \nHands-on cultural activities\, crafts\, face painting\, and traditional storytelling for all ages \nA child-friendly atmosphere: bring folding chairs\, strollers\, and refillable water bottles for your comfort \nComplimentary shuttle service from the East Holly Street neighborhood to the festival site \nAdmission is free\, and no RSVP is required. This is an alcohol-free event. \nCelebrate life\, honor memory\, and connect with your community under the luminous spirit of Día de los Muertos.
URL:https://www.eventoslatinos.org/event/day-of-the-dead-festival-2025/
LOCATION:TX
ATTACH;FMTTYPE=image/jpeg:https://www.eventoslatinos.org/wp-content/uploads/2025/10/DDLM_Banner_3x5_2025.jpg
END:VEVENT
BEGIN:VEVENT
DTSTART;TZID=America/Chicago:20251101T190000
DTEND;TZID=America/Chicago:20251101T220000
DTSTAMP:20260424T192059
CREATED:20251024T012407Z
LAST-MODIFIED:20251024T012851Z
UID:10001235-1762023600-1762034400@www.eventoslatinos.org
SUMMARY:Noche De Gala
DESCRIPTION:Join Mariachi Cielo Azul for an unforgettable evening at Noche De Gala\, a celebration honoring the beauty and tradition of mariachi music in Austin and beyond. \nThis Día de los Muertos–themed gala will feature performances by Mariachi Cielo Azul\, Mariachi Los Palominos\, Mariachi Los Lobos\, and Mariachi Vikingos. Guests will enjoy a night filled with live music\, a delicious dinner\, and the vibrant cultural spirit that makes mariachi an essential part of our heritage. \nWhether you’ve been a lifelong fan of mariachi or are new to the experience\, this elegant night promises to captivate your heart and senses. Dress to impress and join us for a festive\, all-ages gala that celebrates life\, music\, and community. \nNo refunds. All ages welcome.
URL:https://www.eventoslatinos.org/event/noche-de-gala/
LOCATION:Austin Southpark Hotel\, 4140 Governor's Row\, Austin\, TX\, 78744\, United States
ATTACH;FMTTYPE=image/jpeg:https://www.eventoslatinos.org/wp-content/uploads/2025/10/https___cdn.evbuc_.com_images_1093453273_2850539121371_1_original.jpeg
END:VEVENT
END:VCALENDAR