BEGIN:VCALENDAR
VERSION:2.0
PRODID:-//Eventos Latinos - ECPv6.15.20//NONSGML v1.0//EN
CALSCALE:GREGORIAN
METHOD:PUBLISH
X-WR-CALNAME:Eventos Latinos
X-ORIGINAL-URL:https://www.eventoslatinos.org
X-WR-CALDESC:Events for Eventos Latinos
REFRESH-INTERVAL;VALUE=DURATION:PT1H
X-Robots-Tag:noindex
X-PUBLISHED-TTL:PT1H
BEGIN:VTIMEZONE
TZID:America/Chicago
BEGIN:DAYLIGHT
TZOFFSETFROM:-0600
TZOFFSETTO:-0500
TZNAME:CDT
DTSTART:20240310T080000
END:DAYLIGHT
BEGIN:STANDARD
TZOFFSETFROM:-0500
TZOFFSETTO:-0600
TZNAME:CST
DTSTART:20241103T070000
END:STANDARD
BEGIN:DAYLIGHT
TZOFFSETFROM:-0600
TZOFFSETTO:-0500
TZNAME:CDT
DTSTART:20250309T080000
END:DAYLIGHT
BEGIN:STANDARD
TZOFFSETFROM:-0500
TZOFFSETTO:-0600
TZNAME:CST
DTSTART:20251102T070000
END:STANDARD
BEGIN:DAYLIGHT
TZOFFSETFROM:-0600
TZOFFSETTO:-0500
TZNAME:CDT
DTSTART:20260308T080000
END:DAYLIGHT
BEGIN:STANDARD
TZOFFSETFROM:-0500
TZOFFSETTO:-0600
TZNAME:CST
DTSTART:20261101T070000
END:STANDARD
END:VTIMEZONE
BEGIN:VEVENT
DTSTART;TZID=America/Chicago:20250902T100000
DTEND;TZID=America/Chicago:20251031T170000
DTSTAMP:20260424T190133
CREATED:20251013T204145Z
LAST-MODIFIED:20251013T204145Z
UID:10000308-1756807200-1761930000@www.eventoslatinos.org
SUMMARY:Hispanic Heritage Exhibition at The Grace Museum
DESCRIPTION:Celebrate the vibrant stories\, legacies\, and cultural contributions of Hispanic and Latinx communities during the Hispanic Heritage Month Exhibition at The Grace Museum. This thoughtfully curated exhibition explores the histories\, traditions\, and achievements of Hispanic and Latinx individuals in Abilene\, Texas\, and beyond—weaving personal narratives into the broader American story. \nVisitors can explore artifacts\, archival documents\, photographs\, and community-contributed items that highlight local traditions\, migration histories\, cultural expressions\, and everyday life. The exhibition also features collaborative pieces created in partnership with Abilene Christian University’s Public History course\, ensuring a dynamic and locally rooted experience. \nExpect rotating additions and thematic displays throughout the run of the exhibition\, reflecting diverse voices and evolving heritage stories. The goal is to foster understanding\, recognition\, and community pride through visual storytelling and historical insight.
URL:https://www.eventoslatinos.org/event/hispanic-heritage-exhibition-at-the-grace-museum/
LOCATION:The Grace Museum\, 102 Cypress Street\, Abilene\, TX\, 79601\, United States
ATTACH;FMTTYPE=image/jpeg:https://www.eventoslatinos.org/wp-content/uploads/2025/10/BarriodelosSancudosFiestas.jpeg
ORGANIZER;CN="The Grace Museum":MAILTO:info@thegracemuseum.org
END:VEVENT
BEGIN:VEVENT
DTSTART;VALUE=DATE:20251020
DTEND;VALUE=DATE:20251027
DTSTAMP:20260424T190133
CREATED:20251013T191638Z
LAST-MODIFIED:20251013T192339Z
UID:10000304-1760918400-1761523199@www.eventoslatinos.org
SUMMARY:2025 Christus Health Pro Challenge
DESCRIPTION:Top women’s professional tennis returns to East Texas as the Christus Health Pro Challenge celebrates another world-class week in Tyler. Fans can catch rising stars and established pros battling for ranking points and a share of a $100\,000 prize purse. Expect tight three-setters\, doubles drama\, autograph opportunities\, and a family-friendly atmosphere at one of the U.S. fall circuit’s premier stops. \nSchedule (subject to change)\nMon–Tue (Oct 20–21): Qualifying rounds \nWed–Fri (Oct 22–24): Early main-draw rounds \nSat (Oct 25): Semifinals \nSun (Oct 26): Finals / Championship SundayDaily start times and order of play will be posted on the official site and ITF page. \nTickets & Entry \n\nTicket details and on-sale updates are shared via the tournament’s official channels (website and social). Check for day passes\, week passes\, and potential community days.
URL:https://www.eventoslatinos.org/event/2025-christus-health-pro-challenge/
LOCATION:Tyler Athletic & Swim Club\, 2767 Oak Creek Blvd\, Tyler\, TX\, 75703\, United States
ATTACH;FMTTYPE=image/jpeg:https://www.eventoslatinos.org/wp-content/uploads/2025/10/images-5.jpeg
END:VEVENT
BEGIN:VEVENT
DTSTART;TZID=America/Chicago:20251026T090000
DTEND;TZID=America/Chicago:20251026T200000
DTSTAMP:20260424T190133
CREATED:20251021T001234Z
LAST-MODIFIED:20251021T005034Z
UID:10000323-1761469200-1761508800@www.eventoslatinos.org
SUMMARY:Texas Renaissance Festival 2025
DESCRIPTION:The Texas Renaissance Festival (TRF) is the nation’s largest and most celebrated Renaissance-themed event\, transporting visitors back in time to the 16th century for nine magical weekends of entertainment\, artistry\, and adventure. Located on over 70 acres of wooded fairgrounds in Todd Mission\, Texas\, the festival offers an immersive experience featuring costumed performers\, live music\, artisan markets\, themed feasts\, and world-class theatrical productions. \nEach weekend from October 4 through November 30\, 2025\, TRF welcomes guests to explore its vibrant village of more than 400 shops\, stages\, and food pavilions. Visitors can enjoy jousting tournaments\, falconry demonstrations\, comedy shows\, juggling acts\, and musical performances from international talent. The festival’s signature marketplace showcases handcrafted jewelry\, leather goods\, metalwork\, pottery\, and other artisan creations that make for unique souvenirs and gifts. \nThe festival’s 2025 season features themed weekends that highlight different aspects of history and culture\, such as: \nOktoberfest Weekend – Traditional German music\, beer\, and dancing \n1001 Dreams—Fantasy creatures and fairy magic \nAll Hallows Eve—Spooky delights and costume contests \nHighland Fling—Bagpipes\, kilts\, and Scottish pride \nPirate Adventure—Seafaring fun for the whole family \nHeroes & Villains—Comic-inspired cosplay and games \nGuests can indulge in hundreds of culinary delights ranging from roasted turkey legs and Scotch eggs to mead\, ale\, and gourmet desserts. Families can also enjoy the festival’s children’s area\, rides\, and games designed to engage visitors of all ages. \nFor those seeking an extended experience\, TRF offers camping and glamping options at the nearby Fields of New Market Campground\, featuring nightly entertainment\, live music\, and themed activities under the stars. \nThe Texas Renaissance Festival has been enchanting visitors since 1974 and attracts more than half a million guests annually. Its dedication to craftsmanship\, performance\, and historical storytelling continues to make it one of Texas’s most iconic fall traditions.
URL:https://www.eventoslatinos.org/event/texas-renaissance-festival-2025/2025-10-26/
LOCATION:Texas Renaissance Festival Grounds\, 21778 Farm to Market 1774\, Todd Mission\, TX\, 77363\, United States
ATTACH;FMTTYPE=image/jpeg:https://www.eventoslatinos.org/wp-content/uploads/2025/10/TRF45-1-9976.jpg
ORGANIZER;CN="Texas Renaissance Festival%2C Inc.":MAILTO:info@texrenfest.com
END:VEVENT
BEGIN:VEVENT
DTSTART;TZID=America/Chicago:20251026T120000
DTEND;TZID=America/Chicago:20251026T210000
DTSTAMP:20260424T190133
CREATED:20251008T162717Z
LAST-MODIFIED:20251008T165424Z
UID:10000292-1761480000-1761512400@www.eventoslatinos.org
SUMMARY:Muertos Fest (Day Three)
DESCRIPTION:The final day of Muertos Fest 2025 brings one more unforgettable celebration of remembrance\, art\, and community spirit to Hemisfair. From noon to 9 p.m.\, visitors can experience the full vibrancy of San Antonio’s Día de los Muertos traditions with live music\, dance\, altars\, and immersive cultural experiences. \nExplore more than 80 community ofrendas\, each lovingly designed by families\, artists\, and organizations to honor ancestors and tell their stories through art and symbolism. The Muertos Mercado continues with handcrafted jewelry\, folk art\, decor\, and Day of the Dead–inspired creations\, while food vendors offer regional favorites and refreshments throughout the park. \nAcross five outdoor stages\, performances fill the day with rhythm and energy—from mariachi and Latin rock to folklórico\, spoken word\, and contemporary acts. The children’s pavilion and creative workshops invite families to learn about Día de Muertos traditions through fun\, hands-on activities. \nAt 3:00 p.m.\, the festival’s second Grand Procession takes place\, a joyful and emotional parade featuring dancers\, puppeteers\, musicians\, and community groups carrying offerings and tributes. As the sun sets\, the final performances and altar viewings bring the weekend to a heartfelt close—celebrating not only the lives of those remembered but the unity and creativity of all who gather to honor them. \nAdmission is free and open to everyone. Bring family\, friends\, and photos of your loved ones to contribute to the community altar and be part of San Antonio’s most meaningful cultural tradition.
URL:https://www.eventoslatinos.org/event/muertos-fest-day-three/
LOCATION:Hemisfair\, 630 E. Nueva\, San Antonio\, TX\, 78205\, United States
ATTACH;FMTTYPE=image/jpeg:https://www.eventoslatinos.org/wp-content/uploads/2025/10/MF1-331.jpg
ORGANIZER;CN="Muertos Fest":MAILTO:info@muertosfest.com
END:VEVENT
END:VCALENDAR