BEGIN:VCALENDAR
VERSION:2.0
PRODID:-//Eventos Latinos - ECPv6.15.20//NONSGML v1.0//EN
CALSCALE:GREGORIAN
METHOD:PUBLISH
X-WR-CALNAME:Eventos Latinos
X-ORIGINAL-URL:https://www.eventoslatinos.org
X-WR-CALDESC:Events for Eventos Latinos
REFRESH-INTERVAL;VALUE=DURATION:PT1H
X-Robots-Tag:noindex
X-PUBLISHED-TTL:PT1H
BEGIN:VTIMEZONE
TZID:America/Chicago
BEGIN:DAYLIGHT
TZOFFSETFROM:-0600
TZOFFSETTO:-0500
TZNAME:CDT
DTSTART:20240310T080000
END:DAYLIGHT
BEGIN:STANDARD
TZOFFSETFROM:-0500
TZOFFSETTO:-0600
TZNAME:CST
DTSTART:20241103T070000
END:STANDARD
BEGIN:DAYLIGHT
TZOFFSETFROM:-0600
TZOFFSETTO:-0500
TZNAME:CDT
DTSTART:20250309T080000
END:DAYLIGHT
BEGIN:STANDARD
TZOFFSETFROM:-0500
TZOFFSETTO:-0600
TZNAME:CST
DTSTART:20251102T070000
END:STANDARD
BEGIN:DAYLIGHT
TZOFFSETFROM:-0600
TZOFFSETTO:-0500
TZNAME:CDT
DTSTART:20260308T080000
END:DAYLIGHT
BEGIN:STANDARD
TZOFFSETFROM:-0500
TZOFFSETTO:-0600
TZNAME:CST
DTSTART:20261101T070000
END:STANDARD
END:VTIMEZONE
BEGIN:VTIMEZONE
TZID:UTC
BEGIN:STANDARD
TZOFFSETFROM:+0000
TZOFFSETTO:+0000
TZNAME:UTC
DTSTART:20240101T000000
END:STANDARD
END:VTIMEZONE
BEGIN:VEVENT
DTSTART;TZID=America/Chicago:20250902T100000
DTEND;TZID=America/Chicago:20251031T170000
DTSTAMP:20260424T190059
CREATED:20251013T204145Z
LAST-MODIFIED:20251013T204145Z
UID:10000308-1756807200-1761930000@www.eventoslatinos.org
SUMMARY:Hispanic Heritage Exhibition at The Grace Museum
DESCRIPTION:Celebrate the vibrant stories\, legacies\, and cultural contributions of Hispanic and Latinx communities during the Hispanic Heritage Month Exhibition at The Grace Museum. This thoughtfully curated exhibition explores the histories\, traditions\, and achievements of Hispanic and Latinx individuals in Abilene\, Texas\, and beyond—weaving personal narratives into the broader American story. \nVisitors can explore artifacts\, archival documents\, photographs\, and community-contributed items that highlight local traditions\, migration histories\, cultural expressions\, and everyday life. The exhibition also features collaborative pieces created in partnership with Abilene Christian University’s Public History course\, ensuring a dynamic and locally rooted experience. \nExpect rotating additions and thematic displays throughout the run of the exhibition\, reflecting diverse voices and evolving heritage stories. The goal is to foster understanding\, recognition\, and community pride through visual storytelling and historical insight.
URL:https://www.eventoslatinos.org/event/hispanic-heritage-exhibition-at-the-grace-museum/
LOCATION:The Grace Museum\, 102 Cypress Street\, Abilene\, TX\, 79601\, United States
ATTACH;FMTTYPE=image/jpeg:https://www.eventoslatinos.org/wp-content/uploads/2025/10/BarriodelosSancudosFiestas.jpeg
ORGANIZER;CN="The Grace Museum":MAILTO:info@thegracemuseum.org
END:VEVENT
BEGIN:VEVENT
DTSTART;VALUE=DATE:20251016
DTEND;VALUE=DATE:20251020
DTSTAMP:20260424T190059
CREATED:20251013T200324Z
LAST-MODIFIED:20251013T202036Z
UID:10000306-1760572800-1760918399@www.eventoslatinos.org
SUMMARY:Texas Rose Festival 2025
DESCRIPTION:Step into a garden of tradition\, beauty\, and community spirit at the Texas Rose Festival\, a storied celebration that has brought Tyler together every year since 1933. Join in a weekend of ceremonial events\, cultural festivities\, and floral wonder that pay tribute to the region’s rose-growing legacy. \nThis year’s theme is “A Tapestry of Tales”—a fitting motif for a festival that weaves together history\, pageantry\, and the stories of generations who have nurtured the “Rose Capital of America.” \nFestival highlights include: \nThe Queen’s Coronation & Rose Court ceremony \nRibbon Cutting & Rose Presentation \nQueen’s Tea and hospitality events \nRose Parade featuring floats\, marching bands\, equestrian units\, and community groups \nFloral exhibits\, art shows\, and local vendor fairs \nActivities for all ages and photo moments among magnificent rose displays \nWhether you’re drawn by the pageantry\, the flowers\, or the chance to be part of Tyler’s heart and heritage\, the Texas Rose Festival provides a memorable experience for visitors\, families\, and residents alike.
URL:https://www.eventoslatinos.org/event/texas-rose-festival-2025/
LOCATION:Tyler Rose Garden & Rose Garden Center\, 420 Rose Park Drive\, Tyler\, TX\, 75702\, United States
ATTACH;FMTTYPE=image/jpeg:https://www.eventoslatinos.org/wp-content/uploads/2025/10/texas-rose-festival-court_1200x630.jpg
END:VEVENT
BEGIN:VEVENT
DTSTART;TZID=America/Chicago:20251018T090000
DTEND;TZID=America/Chicago:20251018T200000
DTSTAMP:20260424T190059
CREATED:20251021T001234Z
LAST-MODIFIED:20251021T005034Z
UID:10000320-1760778000-1760817600@www.eventoslatinos.org
SUMMARY:Texas Renaissance Festival 2025
DESCRIPTION:The Texas Renaissance Festival (TRF) is the nation’s largest and most celebrated Renaissance-themed event\, transporting visitors back in time to the 16th century for nine magical weekends of entertainment\, artistry\, and adventure. Located on over 70 acres of wooded fairgrounds in Todd Mission\, Texas\, the festival offers an immersive experience featuring costumed performers\, live music\, artisan markets\, themed feasts\, and world-class theatrical productions. \nEach weekend from October 4 through November 30\, 2025\, TRF welcomes guests to explore its vibrant village of more than 400 shops\, stages\, and food pavilions. Visitors can enjoy jousting tournaments\, falconry demonstrations\, comedy shows\, juggling acts\, and musical performances from international talent. The festival’s signature marketplace showcases handcrafted jewelry\, leather goods\, metalwork\, pottery\, and other artisan creations that make for unique souvenirs and gifts. \nThe festival’s 2025 season features themed weekends that highlight different aspects of history and culture\, such as: \nOktoberfest Weekend – Traditional German music\, beer\, and dancing \n1001 Dreams—Fantasy creatures and fairy magic \nAll Hallows Eve—Spooky delights and costume contests \nHighland Fling—Bagpipes\, kilts\, and Scottish pride \nPirate Adventure—Seafaring fun for the whole family \nHeroes & Villains—Comic-inspired cosplay and games \nGuests can indulge in hundreds of culinary delights ranging from roasted turkey legs and Scotch eggs to mead\, ale\, and gourmet desserts. Families can also enjoy the festival’s children’s area\, rides\, and games designed to engage visitors of all ages. \nFor those seeking an extended experience\, TRF offers camping and glamping options at the nearby Fields of New Market Campground\, featuring nightly entertainment\, live music\, and themed activities under the stars. \nThe Texas Renaissance Festival has been enchanting visitors since 1974 and attracts more than half a million guests annually. Its dedication to craftsmanship\, performance\, and historical storytelling continues to make it one of Texas’s most iconic fall traditions.
URL:https://www.eventoslatinos.org/event/texas-renaissance-festival-2025/2025-10-18/
LOCATION:Texas Renaissance Festival Grounds\, 21778 Farm to Market 1774\, Todd Mission\, TX\, 77363\, United States
ATTACH;FMTTYPE=image/jpeg:https://www.eventoslatinos.org/wp-content/uploads/2025/10/TRF45-1-9976.jpg
ORGANIZER;CN="Texas Renaissance Festival%2C Inc.":MAILTO:info@texrenfest.com
END:VEVENT
BEGIN:VEVENT
DTSTART;TZID=UTC:20251018T100000
DTEND;TZID=UTC:20251018T140000
DTSTAMP:20260424T190100
CREATED:20250821T001530Z
LAST-MODIFIED:20250827T051035Z
UID:10000012-1760781600-1760796000@www.eventoslatinos.org
SUMMARY:Cafe\, Cultura\, y Amistad
DESCRIPTION:OPEN HOUSE every Saturday when the center is open! Tourists and visitors enjoy free Puerto Rican coffee\, conversation & displays of traditional music\, dance\, and cultural arts programs. Bendicion\, community elders! We are especially excited to see you! Open house includes a free tour of the center and a souvenir photo with company and students for social media!
URL:https://www.eventoslatinos.org/event/cafe-cultura-y-amistad/2025-10-18/
LOCATION:Puerto Rican Cultural Center\, 701 Tillery Street #13\, Austin\, TX\, 78702\, United States
ATTACH;FMTTYPE=image/jpeg:https://www.eventoslatinos.org/wp-content/uploads/2025/08/GrandOpenHouse2006.entrance.jpg
ORGANIZER;CN="Puerto Rican Cultural Center":MAILTO:dance@prfdance.org
END:VEVENT
BEGIN:VEVENT
DTSTART;TZID=America/Chicago:20251018T100000
DTEND;TZID=America/Chicago:20251018T140000
DTSTAMP:20260424T190100
CREATED:20250923T135234Z
LAST-MODIFIED:20250923T140032Z
UID:10000281-1760781600-1760796000@www.eventoslatinos.org
SUMMARY:Tejanos at the Alamo
DESCRIPTION:In conjunction with Hispanic Heritage Month\, the Alamo will be celebrating Tejanos connected with the site’s history. This event will feature local cultural organizations\, descendants\, living history\, and more. From early San Antonio settlers to 1836 Alamo Defenders and other notable figures such as Juan Seguin\, Adina De Zavala\, and more\, Tejanos at the Alamo will highlight the many important Tejano figures who have made an impact on the Alamo and the larger San Antonio community.
URL:https://www.eventoslatinos.org/event/tejanos-at-the-alamo/
LOCATION:The Alamo\, 300 Alamo Plaza\, San Antonio\, 78205\, United States
ATTACH;FMTTYPE=image/jpeg:https://www.eventoslatinos.org/wp-content/uploads/2025/09/csm_folklorico_children_dancers_5212199f02.jpg
END:VEVENT
BEGIN:VEVENT
DTSTART;TZID=America/Chicago:20251018T123000
DTEND;TZID=America/Chicago:20251018T140000
DTSTAMP:20260424T190100
CREATED:20251001T214646Z
LAST-MODIFIED:20251008T153332Z
UID:10000289-1760790600-1760796000@www.eventoslatinos.org
SUMMARY:La Pasarela Catrina (Catrina Fashion Show)
DESCRIPTION:Celebra la belleza\, la cultura y la transformación con La Pasarela Catrina\, un desfile de moda inspirado en el ícono tradicional mexicano de la Catrina. Con diseños originales\, arte y expresión\, este evento busca rendir homenaje al Día de los Muertos mientras celebra la diversidad\, la creatividad y el poder del estilo. \nQué esperar: \nModelos luciendo atuendos creativos inspirados en la Catrina y la iconografía del Día de los Muertos \nColaboraciones con diseñadores\, artistas visuales y maquilladores \nPresentaciones escénicas y producción temática \nOportunidad para que asistentes exploren cultura\, moda y arte en un ambiente vibrante \nRecomendado para:Amantes de la moda\, la cultura mexicana\, la expresión artística\, y cualquiera que desee celebrar con estilo una tradición tan rica. \nCelebrate beauty\, culture\, and transformation with La Pasarela Catrina\, a fashion show inspired by the iconic Mexican figure of La Catrina. With original designs\, art\, and expression\, this event honors Día de los Muertos while celebrating diversity\, creativity\, and the power of style. \nWhat to expect: \nModels showcasing creative outfits inspired by La Catrina and Day of the Dead imagery \nCollaborations with designers\, visual artists\, and makeup artists \nThemed performances and stage production \nAn immersive experience where attendees engage with fashion\, art\, and culture \nRecommended for:Fashion lovers\, fans of Mexican culture\, art enthusiasts\, and anyone wanting to celebrate a rich tradition with flair.
URL:https://www.eventoslatinos.org/event/la-pasarela-catrina-catrina-fashion-show/
LOCATION:The Yarings Building\, 506 Congress Avenue\, Austin\, TX\, 78701\, United States
ATTACH;FMTTYPE=image/jpeg:https://www.eventoslatinos.org/wp-content/uploads/2025/10/Posada2.Catrina.jpeg
ORGANIZER;CN="Artisan Mercado":MAILTO:info@athenasilversmith.com
END:VEVENT
END:VCALENDAR