BEGIN:VCALENDAR
VERSION:2.0
PRODID:-//Eventos Latinos - ECPv6.15.20//NONSGML v1.0//EN
CALSCALE:GREGORIAN
METHOD:PUBLISH
X-WR-CALNAME:Eventos Latinos
X-ORIGINAL-URL:https://www.eventoslatinos.org
X-WR-CALDESC:Events for Eventos Latinos
REFRESH-INTERVAL;VALUE=DURATION:PT1H
X-Robots-Tag:noindex
X-PUBLISHED-TTL:PT1H
BEGIN:VTIMEZONE
TZID:America/Chicago
BEGIN:DAYLIGHT
TZOFFSETFROM:-0600
TZOFFSETTO:-0500
TZNAME:CDT
DTSTART:20240310T080000
END:DAYLIGHT
BEGIN:STANDARD
TZOFFSETFROM:-0500
TZOFFSETTO:-0600
TZNAME:CST
DTSTART:20241103T070000
END:STANDARD
BEGIN:DAYLIGHT
TZOFFSETFROM:-0600
TZOFFSETTO:-0500
TZNAME:CDT
DTSTART:20250309T080000
END:DAYLIGHT
BEGIN:STANDARD
TZOFFSETFROM:-0500
TZOFFSETTO:-0600
TZNAME:CST
DTSTART:20251102T070000
END:STANDARD
BEGIN:DAYLIGHT
TZOFFSETFROM:-0600
TZOFFSETTO:-0500
TZNAME:CDT
DTSTART:20260308T080000
END:DAYLIGHT
BEGIN:STANDARD
TZOFFSETFROM:-0500
TZOFFSETTO:-0600
TZNAME:CST
DTSTART:20261101T070000
END:STANDARD
END:VTIMEZONE
BEGIN:VTIMEZONE
TZID:UTC
BEGIN:STANDARD
TZOFFSETFROM:+0000
TZOFFSETTO:+0000
TZNAME:UTC
DTSTART:20240101T000000
END:STANDARD
END:VTIMEZONE
BEGIN:VEVENT
DTSTART;TZID=America/Chicago:20250902T100000
DTEND;TZID=America/Chicago:20251031T170000
DTSTAMP:20260424T190638
CREATED:20251013T204145Z
LAST-MODIFIED:20251013T204145Z
UID:10000308-1756807200-1761930000@www.eventoslatinos.org
SUMMARY:Hispanic Heritage Exhibition at The Grace Museum
DESCRIPTION:Celebrate the vibrant stories\, legacies\, and cultural contributions of Hispanic and Latinx communities during the Hispanic Heritage Month Exhibition at The Grace Museum. This thoughtfully curated exhibition explores the histories\, traditions\, and achievements of Hispanic and Latinx individuals in Abilene\, Texas\, and beyond—weaving personal narratives into the broader American story. \nVisitors can explore artifacts\, archival documents\, photographs\, and community-contributed items that highlight local traditions\, migration histories\, cultural expressions\, and everyday life. The exhibition also features collaborative pieces created in partnership with Abilene Christian University’s Public History course\, ensuring a dynamic and locally rooted experience. \nExpect rotating additions and thematic displays throughout the run of the exhibition\, reflecting diverse voices and evolving heritage stories. The goal is to foster understanding\, recognition\, and community pride through visual storytelling and historical insight.
URL:https://www.eventoslatinos.org/event/hispanic-heritage-exhibition-at-the-grace-museum/
LOCATION:The Grace Museum\, 102 Cypress Street\, Abilene\, TX\, 79601\, United States
ATTACH;FMTTYPE=image/jpeg:https://www.eventoslatinos.org/wp-content/uploads/2025/10/BarriodelosSancudosFiestas.jpeg
ORGANIZER;CN="The Grace Museum":MAILTO:info@thegracemuseum.org
END:VEVENT
BEGIN:VEVENT
DTSTART;TZID=America/Chicago:20251004T090000
DTEND;TZID=America/Chicago:20251004T150000
DTSTAMP:20260424T190638
CREATED:20250929T023807Z
LAST-MODIFIED:20250929T023837Z
UID:10000288-1759568400-1759590000@www.eventoslatinos.org
SUMMARY:Childcare Biz Profitability Bootcamp
DESCRIPTION:Are you ready to take your childcare business to the next level? The Childcare Business Profitability Bootcamp is here to help you transform your passion for caring for little ones into a thriving and sustainable business. This interactive workshop is made for licensed childcare providers who want to strengthen their operations\, attract more clients\, and boost profitability—without compromising quality care. \nWhat You’ll Learn:\nIn this bootcamp\, we’ll dive into essential topics like: \nEvaluating and improving your business plan \nBudgeting and financial projections that drive growth \nStrategic pricing and marketing to attract families \nBuilding a standout brand and online presence \nManaging risk\, finances\, and business taxes \nSetting S.M.A.R.T. goals to achieve measurable success \nYou’ll gain practical strategies and actionable insights to optimize your services\, enhance day-to-day operations\, and achieve long-term success. Plus\, participants will earn approved continued education training credit for Business Operations and Management through the Texas Trainer Registry.
URL:https://www.eventoslatinos.org/event/childcare-biz-profitability-bootcamp/
LOCATION:Workforce Solutions Capital Area — North Career Center\, 9001 N Interstate Highway 35\, Suite 110\, Austin\, TX\, 78753\, United States
ATTACH;FMTTYPE=image/jpeg:https://www.eventoslatinos.org/wp-content/uploads/2025/09/https___cdn.evbuc_.com_images_1070992793_1756429347663_1_original-1.jpeg
ORGANIZER;CN="Economic Growth Business Incubator (EGBI)":MAILTO:hello@egbi.org
END:VEVENT
BEGIN:VEVENT
DTSTART;TZID=America/Chicago:20251004T090000
DTEND;TZID=America/Chicago:20251004T200000
DTSTAMP:20260424T190638
CREATED:20251021T001234Z
LAST-MODIFIED:20251021T005034Z
UID:10000316-1759568400-1759608000@www.eventoslatinos.org
SUMMARY:Texas Renaissance Festival 2025
DESCRIPTION:The Texas Renaissance Festival (TRF) is the nation’s largest and most celebrated Renaissance-themed event\, transporting visitors back in time to the 16th century for nine magical weekends of entertainment\, artistry\, and adventure. Located on over 70 acres of wooded fairgrounds in Todd Mission\, Texas\, the festival offers an immersive experience featuring costumed performers\, live music\, artisan markets\, themed feasts\, and world-class theatrical productions. \nEach weekend from October 4 through November 30\, 2025\, TRF welcomes guests to explore its vibrant village of more than 400 shops\, stages\, and food pavilions. Visitors can enjoy jousting tournaments\, falconry demonstrations\, comedy shows\, juggling acts\, and musical performances from international talent. The festival’s signature marketplace showcases handcrafted jewelry\, leather goods\, metalwork\, pottery\, and other artisan creations that make for unique souvenirs and gifts. \nThe festival’s 2025 season features themed weekends that highlight different aspects of history and culture\, such as: \nOktoberfest Weekend – Traditional German music\, beer\, and dancing \n1001 Dreams—Fantasy creatures and fairy magic \nAll Hallows Eve—Spooky delights and costume contests \nHighland Fling—Bagpipes\, kilts\, and Scottish pride \nPirate Adventure—Seafaring fun for the whole family \nHeroes & Villains—Comic-inspired cosplay and games \nGuests can indulge in hundreds of culinary delights ranging from roasted turkey legs and Scotch eggs to mead\, ale\, and gourmet desserts. Families can also enjoy the festival’s children’s area\, rides\, and games designed to engage visitors of all ages. \nFor those seeking an extended experience\, TRF offers camping and glamping options at the nearby Fields of New Market Campground\, featuring nightly entertainment\, live music\, and themed activities under the stars. \nThe Texas Renaissance Festival has been enchanting visitors since 1974 and attracts more than half a million guests annually. Its dedication to craftsmanship\, performance\, and historical storytelling continues to make it one of Texas’s most iconic fall traditions.
URL:https://www.eventoslatinos.org/event/texas-renaissance-festival-2025/2025-10-04/
LOCATION:Texas Renaissance Festival Grounds\, 21778 Farm to Market 1774\, Todd Mission\, TX\, 77363\, United States
ATTACH;FMTTYPE=image/jpeg:https://www.eventoslatinos.org/wp-content/uploads/2025/10/TRF45-1-9976.jpg
ORGANIZER;CN="Texas Renaissance Festival%2C Inc.":MAILTO:info@texrenfest.com
END:VEVENT
BEGIN:VEVENT
DTSTART;TZID=UTC:20251004T100000
DTEND;TZID=UTC:20251004T140000
DTSTAMP:20260424T190638
CREATED:20250821T001530Z
LAST-MODIFIED:20250827T051035Z
UID:10000010-1759572000-1759586400@www.eventoslatinos.org
SUMMARY:Cafe\, Cultura\, y Amistad
DESCRIPTION:OPEN HOUSE every Saturday when the center is open! Tourists and visitors enjoy free Puerto Rican coffee\, conversation & displays of traditional music\, dance\, and cultural arts programs. Bendicion\, community elders! We are especially excited to see you! Open house includes a free tour of the center and a souvenir photo with company and students for social media!
URL:https://www.eventoslatinos.org/event/cafe-cultura-y-amistad/2025-10-04/
LOCATION:Puerto Rican Cultural Center\, 701 Tillery Street #13\, Austin\, TX\, 78702\, United States
ATTACH;FMTTYPE=image/jpeg:https://www.eventoslatinos.org/wp-content/uploads/2025/08/GrandOpenHouse2006.entrance.jpg
ORGANIZER;CN="Puerto Rican Cultural Center":MAILTO:dance@prfdance.org
END:VEVENT
END:VCALENDAR