BEGIN:VCALENDAR
VERSION:2.0
PRODID:-//Eventos Latinos - ECPv6.15.20//NONSGML v1.0//EN
CALSCALE:GREGORIAN
METHOD:PUBLISH
X-ORIGINAL-URL:https://www.eventoslatinos.org
X-WR-CALDESC:Events for Eventos Latinos
REFRESH-INTERVAL;VALUE=DURATION:PT1H
X-Robots-Tag:noindex
X-PUBLISHED-TTL:PT1H
BEGIN:VTIMEZONE
TZID:America/Chicago
BEGIN:DAYLIGHT
TZOFFSETFROM:-0600
TZOFFSETTO:-0500
TZNAME:CDT
DTSTART:20240310T080000
END:DAYLIGHT
BEGIN:STANDARD
TZOFFSETFROM:-0500
TZOFFSETTO:-0600
TZNAME:CST
DTSTART:20241103T070000
END:STANDARD
BEGIN:DAYLIGHT
TZOFFSETFROM:-0600
TZOFFSETTO:-0500
TZNAME:CDT
DTSTART:20250309T080000
END:DAYLIGHT
BEGIN:STANDARD
TZOFFSETFROM:-0500
TZOFFSETTO:-0600
TZNAME:CST
DTSTART:20251102T070000
END:STANDARD
BEGIN:DAYLIGHT
TZOFFSETFROM:-0600
TZOFFSETTO:-0500
TZNAME:CDT
DTSTART:20260308T080000
END:DAYLIGHT
BEGIN:STANDARD
TZOFFSETFROM:-0500
TZOFFSETTO:-0600
TZNAME:CST
DTSTART:20261101T070000
END:STANDARD
END:VTIMEZONE
BEGIN:VTIMEZONE
TZID:UTC
BEGIN:STANDARD
TZOFFSETFROM:+0000
TZOFFSETTO:+0000
TZNAME:UTC
DTSTART:20240101T000000
END:STANDARD
END:VTIMEZONE
BEGIN:VEVENT
DTSTART;TZID=America/Chicago:20250902T100000
DTEND;TZID=America/Chicago:20251031T170000
DTSTAMP:20260424T215447
CREATED:20251013T204145Z
LAST-MODIFIED:20251013T204145Z
UID:10000308-1756807200-1761930000@www.eventoslatinos.org
SUMMARY:Hispanic Heritage Exhibition at The Grace Museum
DESCRIPTION:Celebrate the vibrant stories\, legacies\, and cultural contributions of Hispanic and Latinx communities during the Hispanic Heritage Month Exhibition at The Grace Museum. This thoughtfully curated exhibition explores the histories\, traditions\, and achievements of Hispanic and Latinx individuals in Abilene\, Texas\, and beyond—weaving personal narratives into the broader American story. \nVisitors can explore artifacts\, archival documents\, photographs\, and community-contributed items that highlight local traditions\, migration histories\, cultural expressions\, and everyday life. The exhibition also features collaborative pieces created in partnership with Abilene Christian University’s Public History course\, ensuring a dynamic and locally rooted experience. \nExpect rotating additions and thematic displays throughout the run of the exhibition\, reflecting diverse voices and evolving heritage stories. The goal is to foster understanding\, recognition\, and community pride through visual storytelling and historical insight.
URL:https://www.eventoslatinos.org/event/hispanic-heritage-exhibition-at-the-grace-museum/
LOCATION:The Grace Museum\, 102 Cypress Street\, Abilene\, TX\, 79601\, United States
ATTACH;FMTTYPE=image/jpeg:https://www.eventoslatinos.org/wp-content/uploads/2025/10/BarriodelosSancudosFiestas.jpeg
ORGANIZER;CN="The Grace Museum":MAILTO:info@thegracemuseum.org
END:VEVENT
BEGIN:VEVENT
DTSTART;TZID=UTC:20250920T100000
DTEND;TZID=UTC:20250920T140000
DTSTAMP:20260424T215447
CREATED:20250821T001530Z
LAST-MODIFIED:20250827T051035Z
UID:10000008-1758362400-1758376800@www.eventoslatinos.org
SUMMARY:Cafe\, Cultura\, y Amistad
DESCRIPTION:OPEN HOUSE every Saturday when the center is open! Tourists and visitors enjoy free Puerto Rican coffee\, conversation & displays of traditional music\, dance\, and cultural arts programs. Bendicion\, community elders! We are especially excited to see you! Open house includes a free tour of the center and a souvenir photo with company and students for social media!
URL:https://www.eventoslatinos.org/event/cafe-cultura-y-amistad/2025-09-20/
LOCATION:Puerto Rican Cultural Center\, 701 Tillery Street #13\, Austin\, TX\, 78702\, United States
ATTACH;FMTTYPE=image/jpeg:https://www.eventoslatinos.org/wp-content/uploads/2025/08/GrandOpenHouse2006.entrance.jpg
ORGANIZER;CN="Puerto Rican Cultural Center":MAILTO:dance@prfdance.org
END:VEVENT
BEGIN:VEVENT
DTSTART;TZID=America/Chicago:20250920T170000
DTEND;TZID=America/Chicago:20250920T233000
DTSTAMP:20260424T215447
CREATED:20250903T201835Z
LAST-MODIFIED:20250908T224601Z
UID:10000270-1758387600-1758411000@www.eventoslatinos.org
SUMMARY:2025 52nd Annual Gala and Awards Celebration\, Hecho en Fort Worth
DESCRIPTION:The 52nd Annual Gala is occurring during National Hispanic Heritage Month as the Fort Worth Hispanic Chamber of Commerce honors and commemorates our commitment to fostering a vibrant economic environment for our members\, individuals\, and the greater Fort Worth area. Together\, with your support\, our vision is to participate and contribute to building a better Fort Worth through inclusion and strategic partnerships. Hecho en Fort Worth is not only a celebratory evening gala but also a reminder of our homage to the successful businesses that have taken root in our great city. \nFWHCC Annual Gala Awards include Businessman of the Year\, Businesswoman of the Year\, Community Advocate of the Year\, Community Advocate of the Year\, Chairman’s Award\, Business of the Year\, Ambassador of the Year and the John V. McMillan Hall of Fame Award. \nTo help you prepare\, here are some helpful tips: \n\nThe event timeframe is from 5 pm to 11:30 pm.\n\n5 pm Registration\, Networking\, Mercado Silent Auction\n6 pm Doors Open\n7 pm Invocation\n7:15 pm Tequila Toast\n7:30 pm Awards Program\n9 pm Live Entertainment\n\n\n\nNo Refunds After September 1st\, 2025. 
URL:https://www.eventoslatinos.org/event/2025-52nd-annual-gala-and-awards-celebration-hecho-en-fort-worth/
LOCATION:Fort Worth Convention Center\, 1201 Houston St\, Fort Worth\, TX\, 76102\, United States
ATTACH;FMTTYPE=image/jpeg:https://www.eventoslatinos.org/wp-content/uploads/2025/09/EventPhotoFull_Gala2025_banner.jpg
ORGANIZER;CN="Fort Worth Hispanic Chamber of Commerce":MAILTO:admin@fwhcc.org
END:VEVENT
END:VCALENDAR