BEGIN:VCALENDAR
VERSION:2.0
PRODID:-//Eventos Latinos - ECPv6.15.20//NONSGML v1.0//EN
CALSCALE:GREGORIAN
METHOD:PUBLISH
X-WR-CALNAME:Eventos Latinos
X-ORIGINAL-URL:https://www.eventoslatinos.org
X-WR-CALDESC:Events for Eventos Latinos
REFRESH-INTERVAL;VALUE=DURATION:PT1H
X-Robots-Tag:noindex
X-PUBLISHED-TTL:PT1H
BEGIN:VTIMEZONE
TZID:America/Chicago
BEGIN:DAYLIGHT
TZOFFSETFROM:-0600
TZOFFSETTO:-0500
TZNAME:CDT
DTSTART:20240310T080000
END:DAYLIGHT
BEGIN:STANDARD
TZOFFSETFROM:-0500
TZOFFSETTO:-0600
TZNAME:CST
DTSTART:20241103T070000
END:STANDARD
BEGIN:DAYLIGHT
TZOFFSETFROM:-0600
TZOFFSETTO:-0500
TZNAME:CDT
DTSTART:20250309T080000
END:DAYLIGHT
BEGIN:STANDARD
TZOFFSETFROM:-0500
TZOFFSETTO:-0600
TZNAME:CST
DTSTART:20251102T070000
END:STANDARD
BEGIN:DAYLIGHT
TZOFFSETFROM:-0600
TZOFFSETTO:-0500
TZNAME:CDT
DTSTART:20260308T080000
END:DAYLIGHT
BEGIN:STANDARD
TZOFFSETFROM:-0500
TZOFFSETTO:-0600
TZNAME:CST
DTSTART:20261101T070000
END:STANDARD
END:VTIMEZONE
BEGIN:VEVENT
DTSTART;TZID=America/Chicago:20250902T100000
DTEND;TZID=America/Chicago:20251031T170000
DTSTAMP:20260424T202613
CREATED:20251013T204145Z
LAST-MODIFIED:20251013T204145Z
UID:10000308-1756807200-1761930000@www.eventoslatinos.org
SUMMARY:Hispanic Heritage Exhibition at The Grace Museum
DESCRIPTION:Celebrate the vibrant stories\, legacies\, and cultural contributions of Hispanic and Latinx communities during the Hispanic Heritage Month Exhibition at The Grace Museum. This thoughtfully curated exhibition explores the histories\, traditions\, and achievements of Hispanic and Latinx individuals in Abilene\, Texas\, and beyond—weaving personal narratives into the broader American story. \nVisitors can explore artifacts\, archival documents\, photographs\, and community-contributed items that highlight local traditions\, migration histories\, cultural expressions\, and everyday life. The exhibition also features collaborative pieces created in partnership with Abilene Christian University’s Public History course\, ensuring a dynamic and locally rooted experience. \nExpect rotating additions and thematic displays throughout the run of the exhibition\, reflecting diverse voices and evolving heritage stories. The goal is to foster understanding\, recognition\, and community pride through visual storytelling and historical insight.
URL:https://www.eventoslatinos.org/event/hispanic-heritage-exhibition-at-the-grace-museum/
LOCATION:The Grace Museum\, 102 Cypress Street\, Abilene\, TX\, 79601\, United States
ATTACH;FMTTYPE=image/jpeg:https://www.eventoslatinos.org/wp-content/uploads/2025/10/BarriodelosSancudosFiestas.jpeg
ORGANIZER;CN="The Grace Museum":MAILTO:info@thegracemuseum.org
END:VEVENT
BEGIN:VEVENT
DTSTART;TZID=America/Chicago:20250912T180000
DTEND;TZID=America/Chicago:20250912T210000
DTSTAMP:20260424T202613
CREATED:20250910T151049Z
LAST-MODIFIED:20250910T154006Z
UID:10000278-1757700000-1757710800@www.eventoslatinos.org
SUMMARY:“El Grito” Cultural Program and Civic Ceremony
DESCRIPTION:Bring the family to Historic Market Square for El Grito San Antonio\, the city’s official celebration of Mexican Independence. This joyous\, free event—hosted by the Consulate General of Mexico in San Antonio—features: \nCultural Program (6:00 p.m.): Enjoy dazzling international performances\, including Vanessa Alonzo\, the acclaimed mariachi soprano; Ballet Folclórico de la Universidad Autónoma de Guadalajara\, bringing rich folkloric tradition; and the Palo Alto College Marching Mariachi Drum Line\, blending marching-band power with mariachi flair. \nCivic Ceremony (8:00 p.m.): Join the official “El Grito” civic salute\, part of the global El Grito en el Mundo movement\, honoring Mexico’s call for independence. \nFamily Fun: The festivities include children’s art activities\, live music\, folklórico dance\, food trucks\, and artisan craft booths—creating a warm\, community-honoring atmosphere.
URL:https://www.eventoslatinos.org/event/el-grito-cultural-program-and-civic-ceremony/
LOCATION:Historic Market Square – San Antonio\, 514 W Commerce\, San Antonio\, TX\, 78207\, United States
ATTACH;FMTTYPE=image/webp:https://www.eventoslatinos.org/wp-content/uploads/2025/09/rsw_1200h_600cg_true.webp
ORGANIZER;CN="Consulate General of Mexico in San Antonio":MAILTO:infoconsulmexsan@sre.gob.mx
END:VEVENT
END:VCALENDAR